BEGIN:VCALENDAR
VERSION:2.0
PRODID:-//Salesiani Piemonte e Valle d&#039;Aosta - ECPv5.5.0.1//NONSGML v1.0//EN
CALSCALE:GREGORIAN
METHOD:PUBLISH
X-WR-CALNAME:Salesiani Piemonte e Valle d&#039;Aosta
X-ORIGINAL-URL:https://salesianipiemonte.info
X-WR-CALDESC:Eventi per Salesiani Piemonte e Valle d&#039;Aosta
BEGIN:VTIMEZONE
TZID:Europe/Rome
BEGIN:DAYLIGHT
TZOFFSETFROM:+0100
TZOFFSETTO:+0200
TZNAME:CEST
DTSTART:20200329T010000
END:DAYLIGHT
BEGIN:STANDARD
TZOFFSETFROM:+0200
TZOFFSETTO:+0100
TZNAME:CET
DTSTART:20201025T010000
END:STANDARD
END:VTIMEZONE
BEGIN:VEVENT
DTSTART;TZID=Europe/Rome:20200620T204500
DTEND;TZID=Europe/Rome:20200620T223000
DTSTAMP:20260425T054945
CREATED:20190906T094251Z
LAST-MODIFIED:20200528T135424Z
UID:38947-1592685900-1592692200@salesianipiemonte.info
SUMMARY:ADMA - Processione della Consolata
DESCRIPTION:
URL:https://salesianipiemonte.info/event/adma-processione-della-consolata-2020/
CATEGORIES:ADMA,Famiglia Salesiana
ATTACH;FMTTYPE=image/png:https://salesianipiemonte.info/wp-content/uploads/2017/08/adma.png
ORGANIZER;CN="Renato%20Valera":MAILTO:adma@admadonbosco.org
END:VEVENT
END:VCALENDAR