BEGIN:VCALENDAR
VERSION:2.0
PRODID:-//Salesiani Piemonte e Valle d&#039;Aosta - ECPv5.5.0.1//NONSGML v1.0//EN
CALSCALE:GREGORIAN
METHOD:PUBLISH
X-WR-CALNAME:Salesiani Piemonte e Valle d&#039;Aosta
X-ORIGINAL-URL:https://salesianipiemonte.info
X-WR-CALDESC:Eventi per Salesiani Piemonte e Valle d&#039;Aosta
BEGIN:VTIMEZONE
TZID:Europe/Rome
BEGIN:DAYLIGHT
TZOFFSETFROM:+0100
TZOFFSETTO:+0200
TZNAME:CEST
DTSTART:20220327T010000
END:DAYLIGHT
BEGIN:STANDARD
TZOFFSETFROM:+0200
TZOFFSETTO:+0100
TZNAME:CET
DTSTART:20221030T010000
END:STANDARD
END:VTIMEZONE
BEGIN:VEVENT
DTSTART;VALUE=DATE:20220924
DTEND;VALUE=DATE:20220925
DTSTAMP:20260421T152354
CREATED:20220630T100541Z
LAST-MODIFIED:20220912T153813Z
UID:69782-1663977600-1664063999@salesianipiemonte.info
SUMMARY:Assemblea MGS
DESCRIPTION:Assemblea MGS (Salesiani\, laici impegnati e giovani MGS). Sono convocati i direttori\, i consigli della casa\, i consigli della CEP e chi il direttore desideri invitare. Si tratta di una convocazione ampia\, ma non stringente. La convocazione è affidata al discernimento di ogni direttore con il proprio consiglio. \nProgramma:\n\nore 09.00: accoglienza al Colle don Bosco – davanti a casa giovani (ex cortile istituto)\nore 09.30: preghiera iniziale e introduzione\nore 09.45: “Giovani e mondo digitale: opportunità e inganni” (don Giovanni Fasoli)\nconfronto a gruppi misti\nintervallo\nritorno in plenaria\nore 12.30: fine\n\n(Sarà possibile consumare al Colle don Bosco il pranzo al sacco – portato da casa)  \nIscrizioni:\n\nPer l’assemblea MGS di sabato: iscrizioni al seguente form (clicca qui).
URL:https://salesianipiemonte.info/event/assemblea-mgs-2022-sett/
LOCATION:Colle don Bosco
CATEGORIES:Grandi Eventi,Ispettoria,Movimento Giovanile Salesiano
ATTACH;FMTTYPE=image/jpeg:https://salesianipiemonte.info/wp-content/uploads/2021/07/Banner_MGS_Calendari.jpg
ORGANIZER;CN="Don%20Alberto%20Goia":MAILTO:alberto.goia@31gennaio.net
END:VEVENT
END:VCALENDAR