BEGIN:VCALENDAR
VERSION:2.0
PRODID:-//Salesiani Piemonte e Valle d&#039;Aosta - ECPv5.5.0.1//NONSGML v1.0//EN
CALSCALE:GREGORIAN
METHOD:PUBLISH
X-WR-CALNAME:Salesiani Piemonte e Valle d&#039;Aosta
X-ORIGINAL-URL:https://salesianipiemonte.info
X-WR-CALDESC:Eventi per Salesiani Piemonte e Valle d&#039;Aosta
BEGIN:VTIMEZONE
TZID:Europe/Rome
BEGIN:DAYLIGHT
TZOFFSETFROM:+0100
TZOFFSETTO:+0200
TZNAME:CEST
DTSTART:20200329T010000
END:DAYLIGHT
BEGIN:STANDARD
TZOFFSETFROM:+0200
TZOFFSETTO:+0100
TZNAME:CET
DTSTART:20201025T010000
END:STANDARD
END:VTIMEZONE
BEGIN:VEVENT
DTSTART;TZID=Europe/Rome:20200213T163000
DTEND;TZID=Europe/Rome:20200213T180000
DTSTAMP:20260423T145655
CREATED:20190705T135119Z
LAST-MODIFIED:20200130T103221Z
UID:36950-1581611400-1581616800@salesianipiemonte.info
SUMMARY:Assemblea regionale Cnos-Fap
DESCRIPTION:ASSEMBLEA ORDINARIA DEI SOCI \nAll’Ordine del giorno: \n1. Accoglienza e saluti; \n2. Relazione del Presidente; \n3. Presentazione del bilancio consuntivo 2018-2019 (nota illustrativa e relazione Revisori); \n4. Presentazione del bilancio preventivo 2019-2020; \n5. Confronto in gruppo tra i soci sulle linee di sviluppo dell’Associazione; \n6. Approvazione della Relazione del Presidente\, del bilancio consuntivo e preventivo.
URL:https://salesianipiemonte.info/event/assemblea-regionale-cnos-fap/
LOCATION:Valdocco
CATEGORIES:CNOS-FAP
ATTACH;FMTTYPE=image/jpeg:https://salesianipiemonte.info/wp-content/uploads/2018/07/menu-FP-500.jpg
ORGANIZER;CN="Lucio%20Reghellin":MAILTO:lucio.reghellin@cnosfap.net
END:VEVENT
END:VCALENDAR