BEGIN:VCALENDAR
VERSION:2.0
PRODID:-//Salesiani Piemonte e Valle d&#039;Aosta - ECPv5.5.0.1//NONSGML v1.0//EN
CALSCALE:GREGORIAN
METHOD:PUBLISH
X-WR-CALNAME:Salesiani Piemonte e Valle d&#039;Aosta
X-ORIGINAL-URL:https://salesianipiemonte.info
X-WR-CALDESC:Eventi per Salesiani Piemonte e Valle d&#039;Aosta
BEGIN:VTIMEZONE
TZID:Europe/Rome
BEGIN:DAYLIGHT
TZOFFSETFROM:+0100
TZOFFSETTO:+0200
TZNAME:CEST
DTSTART:20250330T010000
END:DAYLIGHT
BEGIN:STANDARD
TZOFFSETFROM:+0200
TZOFFSETTO:+0100
TZNAME:CET
DTSTART:20251026T010000
END:STANDARD
END:VTIMEZONE
BEGIN:VEVENT
DTSTART;VALUE=DATE:20250217
DTEND;VALUE=DATE:20250218
DTSTAMP:20260421T215654
CREATED:20240611T094354Z
LAST-MODIFIED:20240611T094354Z
UID:90428-1739750400-1739836799@salesianipiemonte.info
SUMMARY:CFP PINK - Valdocco
DESCRIPTION:
URL:https://salesianipiemonte.info/event/cfp-pink-valdocco-17-feb-25/
LOCATION:CNOS-FAP Valdocco\, Via Maria Ausiliatrice\, 36\, Torino\, 10152\, Italia
CATEGORIES:CNOS-FAP
ATTACH;FMTTYPE=image/png:https://salesianipiemonte.info/wp-content/uploads/2017/07/Schermata-2017-07-20-alle-14.50.48.png
END:VEVENT
END:VCALENDAR