BEGIN:VCALENDAR
VERSION:2.0
PRODID:-//Salesiani Piemonte e Valle d&#039;Aosta - ECPv5.5.0.1//NONSGML v1.0//EN
CALSCALE:GREGORIAN
METHOD:PUBLISH
X-WR-CALNAME:Salesiani Piemonte e Valle d&#039;Aosta
X-ORIGINAL-URL:https://salesianipiemonte.info
X-WR-CALDESC:Eventi per Salesiani Piemonte e Valle d&#039;Aosta
BEGIN:VTIMEZONE
TZID:Europe/Rome
BEGIN:DAYLIGHT
TZOFFSETFROM:+0100
TZOFFSETTO:+0200
TZNAME:CEST
DTSTART:20230326T010000
END:DAYLIGHT
BEGIN:STANDARD
TZOFFSETFROM:+0200
TZOFFSETTO:+0100
TZNAME:CET
DTSTART:20231029T010000
END:STANDARD
END:VTIMEZONE
BEGIN:VEVENT
DTSTART;VALUE=DATE:20230227
DTEND;VALUE=DATE:20230228
DTSTAMP:20260421T101953
CREATED:20220701T160015Z
LAST-MODIFIED:20230210T084444Z
UID:70121-1677456000-1677542399@salesianipiemonte.info
SUMMARY:CFP PINK - area Piemonte Orientale
DESCRIPTION:Tema: CHE TI PASSA PER LA TESTA?\nVercelli \nObiettivo:\nNoi non abbiamo un corpo\, noi siamo il nostro corpo. Siamo creati a immagine di Dio\, portiamo scritta\, dentro e fuori\, una bellezza che è espressione della Bellezza\, anche se spesso ce ne dimentichiamo ripiegandoci su noi stessi e rimanendo ingabbiati come la donna ricurva del Vangelo\, che solo dopo essere stata vista e toccata da Gesù viene riabilitata nella sua postura\, capace di nuovo di relazioni. Proveremo a metterlo a fuoco mettendoci in gioco su corpo\, emozioni e libertà. Ci daremo qualche strumento per essere più consapevoli di quel che si muove dentro di noi per un cammino di libertà\, che passa dalla conoscenza e dall’accettazione (sei fatta e funzioni così\, sei bella così). \nLa giornata si pone in continuità con quanto svolto nel primo incontro sul tema delle relazioni\, ma non la presuppone. \n\nore 9.00 Accoglienza con giochi\nore 9.30 inizio\nPreghiera: Video Parole per sperare + preghiera semplice ma spiegata\nore 9.50 Innesco (video Rapunzel e l’emozione di crescere)\nore 9.55 Attività emotest [20 min]\ntesto sul libretto e Ascolto: Struttura del cervello + Funzionamento [20 min a due voci]\n10.45 INTERVALLO\n11.15 Test : Che cervello sta funzionando? [15 min]\n11.30 Catechesi Luca 13\,10-15 “La donna ricurva” [20 min]\n12.00 Condivisione a gruppetti su domande vangelo\n12.30 pranzo\n13.00 INTERVALLO ANIMATO\n14.00 CONFESSIONI/ATTIVITÀ [mezz’ora a gruppo a rotazione]\nAttività: scenette su situazioni\n15.00 SALUTI e PARTENZA
URL:https://salesianipiemonte.info/event/cfp-pink-vercelli-2/
LOCATION:Vercelli\, Corso Randaccio\, 18/20\, Vercelli\, 13100\, Italia
CATEGORIES:CNOS-FAP
ATTACH;FMTTYPE=image/png:https://salesianipiemonte.info/wp-content/uploads/2017/07/Schermata-2017-07-20-alle-14.50.48.png
ORGANIZER;CN="Suor%20Paola%20Casalis":MAILTO:suorp@libero.it - pg-vocazioni@fma-ipi.it
END:VEVENT
END:VCALENDAR