BEGIN:VCALENDAR
VERSION:2.0
PRODID:-//Salesiani Piemonte e Valle d&#039;Aosta - ECPv5.5.0.1//NONSGML v1.0//EN
CALSCALE:GREGORIAN
METHOD:PUBLISH
X-WR-CALNAME:Salesiani Piemonte e Valle d&#039;Aosta
X-ORIGINAL-URL:https://salesianipiemonte.info
X-WR-CALDESC:Eventi per Salesiani Piemonte e Valle d&#039;Aosta
BEGIN:VTIMEZONE
TZID:Europe/Rome
BEGIN:DAYLIGHT
TZOFFSETFROM:+0100
TZOFFSETTO:+0200
TZNAME:CEST
DTSTART:20250330T010000
END:DAYLIGHT
BEGIN:STANDARD
TZOFFSETFROM:+0200
TZOFFSETTO:+0100
TZNAME:CET
DTSTART:20251026T010000
END:STANDARD
END:VTIMEZONE
BEGIN:VEVENT
DTSTART;VALUE=DATE:20250224
DTEND;VALUE=DATE:20250225
DTSTAMP:20260421T191744
CREATED:20240611T101949Z
LAST-MODIFIED:20240611T101949Z
UID:90469-1740355200-1740441599@salesianipiemonte.info
SUMMARY:CFP PINK - Vercelli
DESCRIPTION:
URL:https://salesianipiemonte.info/event/cfp-pink-vercelli-24-feb-25/
LOCATION:Vercelli\, Corso Randaccio\, 18/20\, Vercelli\, 13100\, Italia
CATEGORIES:CNOS-FAP
ATTACH;FMTTYPE=image/png:https://salesianipiemonte.info/wp-content/uploads/2017/07/Schermata-2017-07-20-alle-14.50.48.png
END:VEVENT
END:VCALENDAR