BEGIN:VCALENDAR
VERSION:2.0
PRODID:-//Salesiani Piemonte e Valle d&#039;Aosta - ECPv5.5.0.1//NONSGML v1.0//EN
CALSCALE:GREGORIAN
METHOD:PUBLISH
X-WR-CALNAME:Salesiani Piemonte e Valle d&#039;Aosta
X-ORIGINAL-URL:https://salesianipiemonte.info
X-WR-CALDESC:Eventi per Salesiani Piemonte e Valle d&#039;Aosta
BEGIN:VTIMEZONE
TZID:Europe/Rome
BEGIN:DAYLIGHT
TZOFFSETFROM:+0100
TZOFFSETTO:+0200
TZNAME:CEST
DTSTART:20220327T010000
END:DAYLIGHT
BEGIN:STANDARD
TZOFFSETFROM:+0200
TZOFFSETTO:+0100
TZNAME:CET
DTSTART:20221030T010000
END:STANDARD
END:VTIMEZONE
BEGIN:VEVENT
DTSTART;TZID=Europe/Rome:20220423T090000
DTEND;TZID=Europe/Rome:20220423T101500
DTSTAMP:20260425T125253
CREATED:20211106T175222Z
LAST-MODIFIED:20220412T132202Z
UID:63191-1650704400-1650708900@salesianipiemonte.info
SUMMARY:CISI Formazione - Incontro "Portare frutto nella missione salesiana: “Rimanete in me e io in voi” nel Vangelo di Giovanni e nell’esperienza di Vera Grita" (don Juan José Bartolomè e Maria Rita Scrimieri)
DESCRIPTION:23 aprile – Portare frutto nella missione salesiana: “Rimanete in me e io in voi” nel Vangelo di Giovanni e nell’esperienza di Vera Grita (don Juan José Bartolomè e Maria Rita Scrimieri). \nTutti gli incontri saranno trasmessi in diretta sulla pagina Facebook di Don Bosco Italia grazie al supporto tecnico di IME Comunicazione. \nMaggiori informazioni.
URL:https://salesianipiemonte.info/event/cisi-formazione-incontro-portare-frutto-nella-missione-salesiana-rimanete-in-me-e-io-in-voi-nel-vangelo-di-giovanni-e-nellesperienza-di-vera-grita-don-juan-jose-bart/
LOCATION:Facebook don Bosco Italia
CATEGORIES:Formazione
ATTACH;FMTTYPE=image/jpeg:https://salesianipiemonte.info/wp-content/uploads/2021/11/Progetto-senza-titolo-44.jpg
END:VEVENT
END:VCALENDAR