BEGIN:VCALENDAR
VERSION:2.0
PRODID:-//Salesiani Piemonte e Valle d&#039;Aosta - ECPv5.5.0.1//NONSGML v1.0//EN
CALSCALE:GREGORIAN
METHOD:PUBLISH
X-WR-CALNAME:Salesiani Piemonte e Valle d&#039;Aosta
X-ORIGINAL-URL:https://salesianipiemonte.info
X-WR-CALDESC:Eventi per Salesiani Piemonte e Valle d&#039;Aosta
BEGIN:VTIMEZONE
TZID:Europe/Rome
BEGIN:DAYLIGHT
TZOFFSETFROM:+0100
TZOFFSETTO:+0200
TZNAME:CEST
DTSTART:20200329T010000
END:DAYLIGHT
BEGIN:STANDARD
TZOFFSETFROM:+0200
TZOFFSETTO:+0100
TZNAME:CET
DTSTART:20201025T010000
END:STANDARD
END:VTIMEZONE
BEGIN:VEVENT
DTSTART;TZID=Europe/Rome:20200717T203000
DTEND;TZID=Europe/Rome:20200718T200000
DTSTAMP:20260425T041454
CREATED:20190703T140534Z
LAST-MODIFIED:20200702T121229Z
UID:36163-1595017800-1595102400@salesianipiemonte.info
SUMMARY:SALESIANI IN ITALIA – EVENTO IN MODALITÀ ONLINE Salesiani Cooperatori\, Giornate di Formazione consigli provinciali
DESCRIPTION:“Avrò cura di te. Come migliorare le nostre relazioni” \nProgramma: \nvenerdì 17 luglio\nOre 20.30 (online)\napertura dei lavori\nmomento di preghiera – Prov. Campania\nintervento del Consigliere Mondiale Carlo Pellegrino \nsabato 18 luglio\nOre 9.00 (online)\ninvocazione allo Spirito – Prov. Lombardia\n1 . intervento: “IL CUORE DELLA VITA E’ LA RELAZIONE” – Tonino Solarino \nOre 10.30 (sconnessi)\nlavoro di riflessione personale e di gruppo/consegna domande e riflessioni per il relatore \nOre 12.00 (online)\nritorno in Assemblea \nOre 15.00 (online)\n2. intervento: “LA RELAZIONE INTELLIGENTE” – Tonino Solarino \nOre 16.30 (sconnessi)\nlavoro di riflessione personale e di gruppo/consegna domande e riflessioni per il relatore \nOre 18.00 (online)\nritorno in assemblea \nOre 19.00\nsaluti
URL:https://salesianipiemonte.info/event/cisi-salesiani-cooperatori-formazione-resposabili/
CATEGORIES:Centro Nazionale,Cooperatori,Famiglia Salesiana
ATTACH;FMTTYPE=image/png:https://salesianipiemonte.info/wp-content/uploads/2019/06/sdb-logo-4-761x321-1.png
ORGANIZER;CN="Associazione%20Salesiani%20Cooperatori":MAILTO:info@salcoopicp.eu
END:VEVENT
END:VCALENDAR