BEGIN:VCALENDAR
VERSION:2.0
PRODID:-//Salesiani Piemonte e Valle d&#039;Aosta - ECPv5.5.0.1//NONSGML v1.0//EN
CALSCALE:GREGORIAN
METHOD:PUBLISH
X-WR-CALNAME:Salesiani Piemonte e Valle d&#039;Aosta
X-ORIGINAL-URL:https://salesianipiemonte.info
X-WR-CALDESC:Eventi per Salesiani Piemonte e Valle d&#039;Aosta
BEGIN:VTIMEZONE
TZID:Europe/Rome
BEGIN:DAYLIGHT
TZOFFSETFROM:+0100
TZOFFSETTO:+0200
TZNAME:CEST
DTSTART:20200329T010000
END:DAYLIGHT
BEGIN:STANDARD
TZOFFSETFROM:+0200
TZOFFSETTO:+0100
TZNAME:CET
DTSTART:20201025T010000
END:STANDARD
END:VTIMEZONE
BEGIN:VEVENT
DTSTART;VALUE=DATE:20200623
DTEND;VALUE=DATE:20200624
DTSTAMP:20260425T054951
CREATED:20190705T152031Z
LAST-MODIFIED:20200529T102843Z
UID:37071-1592870400-1592956799@salesianipiemonte.info
SUMMARY:ANTICIPATO - Collegio direttori CFP
DESCRIPTION:ANTICIPATO AL 9 GIUGNO IN MODALITA’ ON LINE \nContattare l’organizzatore dell’evento per conoscere le modalità e le piattaforme utilizzate
URL:https://salesianipiemonte.info/event/collegio-direttori-cfp-6/
LOCATION:Valdocco
CATEGORIES:CNOS-FAP
ATTACH;FMTTYPE=image/jpeg:https://salesianipiemonte.info/wp-content/uploads/2018/07/menu-FP-500.jpg
ORGANIZER;CN="Lucio%20Reghellin":MAILTO:lucio.reghellin@cnosfap.net
END:VEVENT
END:VCALENDAR