BEGIN:VCALENDAR
VERSION:2.0
PRODID:-//Salesiani Piemonte e Valle d&#039;Aosta - ECPv5.5.0.1//NONSGML v1.0//EN
CALSCALE:GREGORIAN
METHOD:PUBLISH
X-WR-CALNAME:Salesiani Piemonte e Valle d&#039;Aosta
X-ORIGINAL-URL:https://salesianipiemonte.info
X-WR-CALDESC:Eventi per Salesiani Piemonte e Valle d&#039;Aosta
BEGIN:VTIMEZONE
TZID:Europe/Rome
BEGIN:DAYLIGHT
TZOFFSETFROM:+0100
TZOFFSETTO:+0200
TZNAME:CEST
DTSTART:20200329T010000
END:DAYLIGHT
BEGIN:STANDARD
TZOFFSETFROM:+0200
TZOFFSETTO:+0100
TZNAME:CET
DTSTART:20201025T010000
END:STANDARD
END:VTIMEZONE
BEGIN:VEVENT
DTSTART;VALUE=DATE:20200616
DTEND;VALUE=DATE:20200617
DTSTAMP:20260425T055057
CREATED:20190704T142733Z
LAST-MODIFIED:20200529T102614Z
UID:36470-1592265600-1592351999@salesianipiemonte.info
SUMMARY:Consiglio direttivo Cnos-Fap
DESCRIPTION:IN MODALITA’ ON LINE \nContattare l’organizzatore dell’evento per conoscere le modalità e le piattaforme utilizzate
URL:https://salesianipiemonte.info/event/consiglio-direttivo-cnos-fap-10/
LOCATION:Valdocco
CATEGORIES:CNOS-FAP
ATTACH;FMTTYPE=image/jpeg:https://salesianipiemonte.info/wp-content/uploads/2018/07/menu-FP-500.jpg
ORGANIZER;CN="Lucio%20Reghellin":MAILTO:lucio.reghellin@cnosfap.net
END:VEVENT
END:VCALENDAR