BEGIN:VCALENDAR
VERSION:2.0
PRODID:-//Salesiani Piemonte e Valle d&#039;Aosta - ECPv5.5.0.1//NONSGML v1.0//EN
CALSCALE:GREGORIAN
METHOD:PUBLISH
X-WR-CALNAME:Salesiani Piemonte e Valle d&#039;Aosta
X-ORIGINAL-URL:https://salesianipiemonte.info
X-WR-CALDESC:Eventi per Salesiani Piemonte e Valle d&#039;Aosta
BEGIN:VTIMEZONE
TZID:Europe/Rome
BEGIN:DAYLIGHT
TZOFFSETFROM:+0100
TZOFFSETTO:+0200
TZNAME:CEST
DTSTART:20210328T010000
END:DAYLIGHT
BEGIN:STANDARD
TZOFFSETFROM:+0200
TZOFFSETTO:+0100
TZNAME:CET
DTSTART:20211031T010000
END:STANDARD
END:VTIMEZONE
BEGIN:VEVENT
DTSTART;TZID=Europe/Rome:20210511T090000
DTEND;TZID=Europe/Rome:20210511T120000
DTSTAMP:20260421T232841
CREATED:20200804T104628Z
LAST-MODIFIED:20210507T090211Z
UID:50614-1620723600-1620734400@salesianipiemonte.info
SUMMARY:Consiglio direttivo CNOS FAP
DESCRIPTION:Programma:\n– Riflessione sui Servizi al Lavoro\n– Riflessione sugli Enti TS\n– Offerta IeFP 21-22
URL:https://salesianipiemonte.info/event/consiglio-direttivo-cnos-fap-2020-09/
LOCATION:CNOS-FAP Sede Regione Piemonte\, Via Maria Ausiliatrice\, 32\, Torino\, 10152\, Italia
CATEGORIES:CNOS-FAP
ATTACH;FMTTYPE=image/gif:https://salesianipiemonte.info/wp-content/uploads/2016/07/CnosFap-RGB.gif
ORGANIZER;CN="Lucio%20Reghellin":MAILTO:lucio.reghellin@cnosfap.net
END:VEVENT
END:VCALENDAR