BEGIN:VCALENDAR
VERSION:2.0
PRODID:-//Salesiani Piemonte e Valle d&#039;Aosta - ECPv5.5.0.1//NONSGML v1.0//EN
CALSCALE:GREGORIAN
METHOD:PUBLISH
X-WR-CALNAME:Salesiani Piemonte e Valle d&#039;Aosta
X-ORIGINAL-URL:https://salesianipiemonte.info
X-WR-CALDESC:Eventi per Salesiani Piemonte e Valle d&#039;Aosta
BEGIN:VTIMEZONE
TZID:Europe/Rome
BEGIN:DAYLIGHT
TZOFFSETFROM:+0100
TZOFFSETTO:+0200
TZNAME:CEST
DTSTART:20220327T010000
END:DAYLIGHT
BEGIN:STANDARD
TZOFFSETFROM:+0200
TZOFFSETTO:+0100
TZNAME:CET
DTSTART:20221030T010000
END:STANDARD
END:VTIMEZONE
BEGIN:VEVENT
DTSTART;TZID=Europe/Rome:20221201T204500
DTEND;TZID=Europe/Rome:20221201T223000
DTSTAMP:20260424T143846
CREATED:20220701T155225Z
LAST-MODIFIED:20220928T123736Z
UID:70103-1669927500-1669933800@salesianipiemonte.info
SUMMARY:E Se la Fede - 1 dicembre 2022
DESCRIPTION:Maternità: Dio si rende “comprensibile” per l’uomo \nhttps://www.eselafede.it/portfolio-articoli/1-dicembre-2022/
URL:https://salesianipiemonte.info/event/e-se-la-fede-1-dicembre-2022/
LOCATION:Basilica Maria Ausiliatrice\, Via Maria Ausiliatrice\, 32\, Torino\, Italia\, 10122
CATEGORIES:E se la fede,Pastorale Giovanile
ATTACH;FMTTYPE=image/png:https://salesianipiemonte.info/wp-content/uploads/2016/07/eselafede-761x321-1.png
ORGANIZER;CN="Don%20Alberto%20Goia":MAILTO:alberto.goia@31gennaio.net
END:VEVENT
END:VCALENDAR