BEGIN:VCALENDAR
VERSION:2.0
PRODID:-//Salesiani Piemonte e Valle d&#039;Aosta - ECPv5.5.0.1//NONSGML v1.0//EN
CALSCALE:GREGORIAN
METHOD:PUBLISH
X-WR-CALNAME:Salesiani Piemonte e Valle d&#039;Aosta
X-ORIGINAL-URL:https://salesianipiemonte.info
X-WR-CALDESC:Eventi per Salesiani Piemonte e Valle d&#039;Aosta
BEGIN:VTIMEZONE
TZID:Europe/Rome
BEGIN:DAYLIGHT
TZOFFSETFROM:+0100
TZOFFSETTO:+0200
TZNAME:CEST
DTSTART:20200329T010000
END:DAYLIGHT
BEGIN:STANDARD
TZOFFSETFROM:+0200
TZOFFSETTO:+0100
TZNAME:CET
DTSTART:20201025T010000
END:STANDARD
END:VTIMEZONE
BEGIN:VEVENT
DTSTART;VALUE=DATE:20200325
DTEND;VALUE=DATE:20200326
DTSTAMP:20260425T145716
CREATED:20190704T143843Z
LAST-MODIFIED:20190704T143843Z
UID:36491-1585094400-1585180799@salesianipiemonte.info
SUMMARY:Equipe di PG
DESCRIPTION:
URL:https://salesianipiemonte.info/event/equipe-di-pg-2019-20-5/
LOCATION:Valdocco
CATEGORIES:Animazione Missionaria,Animazione Vocazionale,CNOS-FAP,CUS,Movimento Giovanile Salesiano,Pastorale Giovanile,Scuola,Servizi Civili e Sociali
ATTACH;FMTTYPE=image/png:https://salesianipiemonte.info/wp-content/uploads/2018/07/logo-rett-red-500.png
ORGANIZER;CN="Don%20Stefano%20Mondin":MAILTO:stefano.mondin@31gennaio.net - pg@salesianipiemonte.it
END:VEVENT
END:VCALENDAR