BEGIN:VCALENDAR
VERSION:2.0
PRODID:-//Salesiani Piemonte e Valle d&#039;Aosta - ECPv5.5.0.1//NONSGML v1.0//EN
CALSCALE:GREGORIAN
METHOD:PUBLISH
X-WR-CALNAME:Salesiani Piemonte e Valle d&#039;Aosta
X-ORIGINAL-URL:https://salesianipiemonte.info
X-WR-CALDESC:Eventi per Salesiani Piemonte e Valle d&#039;Aosta
BEGIN:VTIMEZONE
TZID:Europe/Rome
BEGIN:DAYLIGHT
TZOFFSETFROM:+0100
TZOFFSETTO:+0200
TZNAME:CEST
DTSTART:20210328T010000
END:DAYLIGHT
BEGIN:STANDARD
TZOFFSETFROM:+0200
TZOFFSETTO:+0100
TZNAME:CET
DTSTART:20211031T010000
END:STANDARD
END:VTIMEZONE
BEGIN:VEVENT
DTSTART;VALUE=DATE:20210311
DTEND;VALUE=DATE:20210314
DTSTAMP:20260424T234944
CREATED:20200729T140058Z
LAST-MODIFIED:20210219T101947Z
UID:50489-1615420800-1615679999@salesianipiemonte.info
SUMMARY:EVENTO ANNULLATO - Esercizi Spirituali Presidi e catechisti scuole\, Direttori e catechisti CFP
DESCRIPTION:Gli esercizi spirituali previsti in calendario ispettoriale per i giorni 11-13 marzo sono stati annullati.
URL:https://salesianipiemonte.info/event/esercizi-spirituali-presidi-e-catechisti-scuole-direttori-e-catechisti-cfp/
CATEGORIES:CNOS-FAP,Ispettoria,Scuola
ATTACH;FMTTYPE=image/png:https://salesianipiemonte.info/wp-content/uploads/2018/07/capitolo-ispettoriali.png
END:VEVENT
END:VCALENDAR