BEGIN:VCALENDAR
VERSION:2.0
PRODID:-//Salesiani Piemonte e Valle d&#039;Aosta - ECPv5.5.0.1//NONSGML v1.0//EN
CALSCALE:GREGORIAN
METHOD:PUBLISH
X-WR-CALNAME:Salesiani Piemonte e Valle d&#039;Aosta
X-ORIGINAL-URL:https://salesianipiemonte.info
X-WR-CALDESC:Eventi per Salesiani Piemonte e Valle d&#039;Aosta
BEGIN:VTIMEZONE
TZID:Europe/Rome
BEGIN:DAYLIGHT
TZOFFSETFROM:+0100
TZOFFSETTO:+0200
TZNAME:CEST
DTSTART:20220327T010000
END:DAYLIGHT
BEGIN:STANDARD
TZOFFSETFROM:+0200
TZOFFSETTO:+0100
TZNAME:CET
DTSTART:20221030T010000
END:STANDARD
END:VTIMEZONE
BEGIN:VEVENT
DTSTART;VALUE=DATE:20220923
DTEND;VALUE=DATE:20220924
DTSTAMP:20260422T021336
CREATED:20220705T094001Z
LAST-MODIFIED:20220804T083551Z
UID:70356-1663891200-1663977599@salesianipiemonte.info
SUMMARY:CNOS FAP Formazione neoassunti
DESCRIPTION:
URL:https://salesianipiemonte.info/event/formazione-cnos-sett-23/
CATEGORIES:CNOS-FAP,Ispettoria,Pastorale Giovanile,Scuola
ATTACH;FMTTYPE=image/png:https://salesianipiemonte.info/wp-content/uploads/2017/07/Schermata-2017-07-20-alle-14.50.48.png
ORGANIZER;CN="Don%20Fabiano%20Gheller":MAILTO:fabiano.gheller@31gennaio.net
END:VEVENT
END:VCALENDAR