BEGIN:VCALENDAR
VERSION:2.0
PRODID:-//Salesiani Piemonte e Valle d&#039;Aosta - ECPv5.5.0.1//NONSGML v1.0//EN
CALSCALE:GREGORIAN
METHOD:PUBLISH
X-WR-CALNAME:Salesiani Piemonte e Valle d&#039;Aosta
X-ORIGINAL-URL:https://salesianipiemonte.info
X-WR-CALDESC:Eventi per Salesiani Piemonte e Valle d&#039;Aosta
BEGIN:VTIMEZONE
TZID:Europe/Rome
BEGIN:DAYLIGHT
TZOFFSETFROM:+0100
TZOFFSETTO:+0200
TZNAME:CEST
DTSTART:20230326T010000
END:DAYLIGHT
BEGIN:STANDARD
TZOFFSETFROM:+0200
TZOFFSETTO:+0100
TZNAME:CET
DTSTART:20231029T010000
END:STANDARD
END:VTIMEZONE
BEGIN:VEVENT
DTSTART;VALUE=DATE:20230907
DTEND;VALUE=DATE:20230908
DTSTAMP:20260421T215520
CREATED:20230619T122456Z
LAST-MODIFIED:20230622T122455Z
UID:81560-1694044800-1694131199@salesianipiemonte.info
SUMMARY:Formazione neoassunti scuola (online)
DESCRIPTION:“Primi passi”: assunti nel settembre 2023 che non hanno mai insegnato.
URL:https://salesianipiemonte.info/event/formazione-neoassunti-scuola-online-sett2023/
CATEGORIES:Ispettoria,Scuola
ATTACH;FMTTYPE=image/jpeg:https://salesianipiemonte.info/wp-content/uploads/2021/07/Banner_Calendari.jpg
ORGANIZER;CN="Don%20Fabiano%20Gheller":MAILTO:fabiano.gheller@31gennaio.net
END:VEVENT
END:VCALENDAR