BEGIN:VCALENDAR
VERSION:2.0
PRODID:-//Salesiani Piemonte e Valle d&#039;Aosta - ECPv5.5.0.1//NONSGML v1.0//EN
CALSCALE:GREGORIAN
METHOD:PUBLISH
X-WR-CALNAME:Salesiani Piemonte e Valle d&#039;Aosta
X-ORIGINAL-URL:https://salesianipiemonte.info
X-WR-CALDESC:Eventi per Salesiani Piemonte e Valle d&#039;Aosta
BEGIN:VTIMEZONE
TZID:Europe/Rome
BEGIN:DAYLIGHT
TZOFFSETFROM:+0100
TZOFFSETTO:+0200
TZNAME:CEST
DTSTART:20200329T010000
END:DAYLIGHT
BEGIN:STANDARD
TZOFFSETFROM:+0200
TZOFFSETTO:+0100
TZNAME:CET
DTSTART:20201025T010000
END:STANDARD
END:VTIMEZONE
BEGIN:VEVENT
DTSTART;TZID=Europe/Rome:20201103T180000
DTEND;TZID=Europe/Rome:20201103T190000
DTSTAMP:20260425T005814
CREATED:20201020T131621Z
LAST-MODIFIED:20201020T131621Z
UID:52573-1604426400-1604430000@salesianipiemonte.info
SUMMARY:Formazione sul nuovo Messale: 3° incontro - lettura musicale
DESCRIPTION:3° incontro di formazione per i Confratelli SDB sulla lettura musicale del Messale\, a cura di don Maurizio Palazzo. \nAppuntamento alle ore 18.00 in sala Sangalli. \nIncontro successivo:\n\nMartedì 10 novembre: lettura liturgica (don Andrea Bozzolo)
URL:https://salesianipiemonte.info/event/formazione-sul-nuovo-messale-3-incontro-lettura-musicale/
LOCATION:Valdocco
CATEGORIES:Formazione,Ispettoria,Nuovo Messale
ATTACH;FMTTYPE=image/png:https://salesianipiemonte.info/wp-content/uploads/2018/07/capitolo-ispettoriali.png
ORGANIZER;CN="Don%20Michele%20Molinar":MAILTO:michele.molinar@31gennaio.net
END:VEVENT
END:VCALENDAR