BEGIN:VCALENDAR
VERSION:2.0
PRODID:-//Salesiani Piemonte e Valle d&#039;Aosta - ECPv5.5.0.1//NONSGML v1.0//EN
CALSCALE:GREGORIAN
METHOD:PUBLISH
X-WR-CALNAME:Salesiani Piemonte e Valle d&#039;Aosta
X-ORIGINAL-URL:https://salesianipiemonte.info
X-WR-CALDESC:Eventi per Salesiani Piemonte e Valle d&#039;Aosta
BEGIN:VTIMEZONE
TZID:Europe/Rome
BEGIN:DAYLIGHT
TZOFFSETFROM:+0100
TZOFFSETTO:+0200
TZNAME:CEST
DTSTART:20200329T010000
END:DAYLIGHT
BEGIN:STANDARD
TZOFFSETFROM:+0200
TZOFFSETTO:+0100
TZNAME:CET
DTSTART:20201025T010000
END:STANDARD
END:VTIMEZONE
BEGIN:VEVENT
DTSTART;VALUE=DATE:20201030
DTEND;VALUE=DATE:20201031
DTSTAMP:20260421T113124
CREATED:20200804T102132Z
LAST-MODIFIED:20201015T075323Z
UID:50582-1604016000-1604102399@salesianipiemonte.info
SUMMARY:RIMANDATO - Giornata di ente - CNOS FAP
DESCRIPTION:Giornata di ente rinviata a maggio causa emergenza Covid
URL:https://salesianipiemonte.info/event/giornata-di-ente-cnos-fap/
LOCATION:Colle don Bosco
CATEGORIES:CNOS-FAP
ATTACH;FMTTYPE=image/gif:https://salesianipiemonte.info/wp-content/uploads/2016/07/CnosFap-RGB.gif
END:VEVENT
END:VCALENDAR