BEGIN:VCALENDAR
VERSION:2.0
PRODID:-//Salesiani Piemonte e Valle d&#039;Aosta - ECPv5.5.0.1//NONSGML v1.0//EN
CALSCALE:GREGORIAN
METHOD:PUBLISH
X-WR-CALNAME:Salesiani Piemonte e Valle d&#039;Aosta
X-ORIGINAL-URL:https://salesianipiemonte.info
X-WR-CALDESC:Eventi per Salesiani Piemonte e Valle d&#039;Aosta
BEGIN:VTIMEZONE
TZID:Europe/Rome
BEGIN:DAYLIGHT
TZOFFSETFROM:+0100
TZOFFSETTO:+0200
TZNAME:CEST
DTSTART:20200329T010000
END:DAYLIGHT
BEGIN:STANDARD
TZOFFSETFROM:+0200
TZOFFSETTO:+0100
TZNAME:CET
DTSTART:20201025T010000
END:STANDARD
END:VTIMEZONE
BEGIN:VEVENT
DTSTART;TZID=Europe/Rome:20200124T153000
DTEND;TZID=Europe/Rome:20200124T193000
DTSTAMP:20260425T224900
CREATED:20190705T133652Z
LAST-MODIFIED:20200109T164239Z
UID:36938-1579879800-1579894200@salesianipiemonte.info
SUMMARY:Giornata di formazione generale per docenti\, presidi e vice-presidi
DESCRIPTION:In questa occasione sono invitati i Presidi\, i Vicepresidi ed i Coordinatori di Classe. L’incontro è ovviamente aperto anche a tutti i Direttori che desiderano e possono essere presenti. \nProgramma\n\nOre 15.30: ritrovo a Valdocco (sala Sangalli)\nOre 16.00: saluto iniziale dell’Ispettore\nOre 16.15: intervento del prof. Johnny Dotti\nOre 17.15: confronto in assemblea con il relatore\nOre 17.50: pausa\nOre 18.00: vespro (chiesa di San Francesco)\nOre 18.30: buffet – Apericena (costo 5 € a carico della Scuola)\n\nLe iscrizioni delle singole scuole devono pervenire\nentro il 20 gennaio al Delegato scuola prof. Mauro Pace.
URL:https://salesianipiemonte.info/event/giornata-di-formazione-generale-per-docenti-presidi-e-vice-presidi/
LOCATION:Valdocco
CATEGORIES:Scuola
ATTACH;FMTTYPE=image/png:https://salesianipiemonte.info/wp-content/uploads/2018/07/menu-pr-25.png
ORGANIZER;CN="Mauro%20Pace":MAILTO:cnos.scuola@salesianipiemonte.it
END:VEVENT
END:VCALENDAR