BEGIN:VCALENDAR
VERSION:2.0
PRODID:-//Salesiani Piemonte e Valle d&#039;Aosta - ECPv5.5.0.1//NONSGML v1.0//EN
CALSCALE:GREGORIAN
METHOD:PUBLISH
X-WR-CALNAME:Salesiani Piemonte e Valle d&#039;Aosta
X-ORIGINAL-URL:https://salesianipiemonte.info
X-WR-CALDESC:Eventi per Salesiani Piemonte e Valle d&#039;Aosta
BEGIN:VTIMEZONE
TZID:Europe/Rome
BEGIN:DAYLIGHT
TZOFFSETFROM:+0100
TZOFFSETTO:+0200
TZNAME:CEST
DTSTART:20210328T010000
END:DAYLIGHT
BEGIN:STANDARD
TZOFFSETFROM:+0200
TZOFFSETTO:+0100
TZNAME:CET
DTSTART:20211031T010000
END:STANDARD
END:VTIMEZONE
BEGIN:VEVENT
DTSTART;TZID=Europe/Rome:20210508T094500
DTEND;TZID=Europe/Rome:20210508T181500
DTSTAMP:20260424T235648
CREATED:20210415T135148Z
LAST-MODIFIED:20210426T153107Z
UID:57014-1620467100-1620497700@salesianipiemonte.info
SUMMARY:Gr Ado (SDB e FMA - Prima e seconda superiore)
DESCRIPTION:Confermato in presenza\, salvo nuove disposizioni Dpcm. \nDOVE\nA Valdocco\, per comodità di trasporti.\nFaremo tutto il possibile per garantire distanze e precauzioni necessarie. \n\n\n\nORARI\nPer chi non ha lezione al mattino\nInizio \nh 9.45 Accoglienza\nh 10.15 inizio delle attività\n\nPer chi ha lezione al mattino\, 2 possibilità:\nArrivo entro le 15.00.\nArrivo verso le h 8.00 per seguire la DAD da Valdocco\, connettendosi da qui (col vantaggio di essere già qui al termine delle lezioni)\n\nTermine h 18.15.\n\n\n\n ATTIVITA’\n– Ado e GxG avranno attività divise e diverse.\n– Per ciascuna fascia\, chi venisse solo al pomeriggio avrà l’attività in parte modulata ad hoc. La seconda parte del pomeriggio sarà insieme.\n– Gli ADO avranno la Messa prima di partire\, oltre alla possibilità di confessioni.\n– I GxG non avranno la Messa\, ma avranno la possibilità di confessioni.\n\n\n\n\n\nISCRIZIONI\nEntro martedì 4 maggio. Per comodità vostra\, inviate il link direttamente ai ragazzi.\nhttps://forms.gle/MRrKHKNDTwfTiXAV9\n\n\n\n\n\nCOSTI\nChiediamo il contributo di 3 euro a ragazzo\, da consegnare all’arrivo\, per la pulizia degli ambienti e per la merenda del pomeriggio.\n\n\n\n\n\nPORTARE\nPranzo al sacco\, penna per scrivere. Non serve la merenda.\n\nUn grazie sincero alle équipe per il lavoro organizzativo\, e a voi per la dedizione per la convocazione.
URL:https://salesianipiemonte.info/event/gr-ado-sdb-e-fma-prima-e-seconda-superiore/
CATEGORIES:Animazione Vocazionale,GR Ado
ATTACH;FMTTYPE=image/png:https://salesianipiemonte.info/wp-content/uploads/2018/07/menu-pr-21.png
ORGANIZER;CN="Don%20Fabiano%20Gheller":MAILTO:fabiano.gheller@31gennaio.net
END:VEVENT
END:VCALENDAR