BEGIN:VCALENDAR
VERSION:2.0
PRODID:-//Salesiani Piemonte e Valle d&#039;Aosta - ECPv5.5.0.1//NONSGML v1.0//EN
CALSCALE:GREGORIAN
METHOD:PUBLISH
X-WR-CALNAME:Salesiani Piemonte e Valle d&#039;Aosta
X-ORIGINAL-URL:https://salesianipiemonte.info
X-WR-CALDESC:Eventi per Salesiani Piemonte e Valle d&#039;Aosta
BEGIN:VTIMEZONE
TZID:Europe/Rome
BEGIN:DAYLIGHT
TZOFFSETFROM:+0100
TZOFFSETTO:+0200
TZNAME:CEST
DTSTART:20220327T010000
END:DAYLIGHT
BEGIN:STANDARD
TZOFFSETFROM:+0200
TZOFFSETTO:+0100
TZNAME:CET
DTSTART:20221030T010000
END:STANDARD
END:VTIMEZONE
BEGIN:VEVENT
DTSTART;TZID=Europe/Rome:20221205T183000
DTEND;TZID=Europe/Rome:20221205T193000
DTSTAMP:20260424T141845
CREATED:20221202T155153Z
LAST-MODIFIED:20221202T155153Z
UID:76160-1670265000-1670268600@salesianipiemonte.info
SUMMARY:Immacolata Concezione - Concelebrazione Eucaristica
DESCRIPTION:Lunedì 5 dicembre\, ore 18.30 \nMemoria del Beato Filippo Rinaldi – 3° Successore di Don Bosco \nPresiede Don Playà Morena Joan L. – delegato mondiale della Famiglia Salesiana \nDiretta Streaming sul canale YouTube della Basilica
URL:https://salesianipiemonte.info/event/immacolata-concezione-concelebrazione-eucaristica/
LOCATION:Basilica Maria Ausiliatrice\, Via Maria Ausiliatrice\, 32\, Torino\, Italia\, 10122
CATEGORIES:Parrocchia e Oratorio
ATTACH;FMTTYPE=image/jpeg:https://salesianipiemonte.info/wp-content/uploads/2021/07/Banner_PG_Calendari.jpg
END:VEVENT
END:VCALENDAR