BEGIN:VCALENDAR
VERSION:2.0
PRODID:-//Salesiani Piemonte e Valle d&#039;Aosta - ECPv5.5.0.1//NONSGML v1.0//EN
CALSCALE:GREGORIAN
METHOD:PUBLISH
X-WR-CALNAME:Salesiani Piemonte e Valle d&#039;Aosta
X-ORIGINAL-URL:https://salesianipiemonte.info
X-WR-CALDESC:Eventi per Salesiani Piemonte e Valle d&#039;Aosta
BEGIN:VTIMEZONE
TZID:Europe/Rome
BEGIN:DAYLIGHT
TZOFFSETFROM:+0100
TZOFFSETTO:+0200
TZNAME:CEST
DTSTART:20210328T010000
END:DAYLIGHT
BEGIN:STANDARD
TZOFFSETFROM:+0200
TZOFFSETTO:+0100
TZNAME:CET
DTSTART:20211031T010000
END:STANDARD
END:VTIMEZONE
BEGIN:VEVENT
DTSTART;VALUE=DATE:20210517
DTEND;VALUE=DATE:20210518
DTSTAMP:20260421T130303
CREATED:20200806T132903Z
LAST-MODIFIED:20210506T141359Z
UID:50892-1621209600-1621295999@salesianipiemonte.info
SUMMARY:RIMANDATO - Incontro incaricati di Oratorio
DESCRIPTION:L’incontro è rimandato a quando usciranno le linee guida nazionali per le attività estive (in modalità online).
URL:https://salesianipiemonte.info/event/incaricati-di-oratorio-2020-21-07/
CATEGORIES:Oratorio,Parrocchia e Oratorio
ATTACH;FMTTYPE=image/png:https://salesianipiemonte.info/wp-content/uploads/2018/07/menu-pr-24.png
ORGANIZER;CN="Don%20Stefano%20Mondin":MAILTO:stefano.mondin@31gennaio.net - pg@salesianipiemonte.it
END:VEVENT
END:VCALENDAR