BEGIN:VCALENDAR
VERSION:2.0
PRODID:-//Salesiani Piemonte e Valle d&#039;Aosta - ECPv5.5.0.1//NONSGML v1.0//EN
CALSCALE:GREGORIAN
METHOD:PUBLISH
X-WR-CALNAME:Salesiani Piemonte e Valle d&#039;Aosta
X-ORIGINAL-URL:https://salesianipiemonte.info
X-WR-CALDESC:Eventi per Salesiani Piemonte e Valle d&#039;Aosta
BEGIN:VTIMEZONE
TZID:Europe/Rome
BEGIN:DAYLIGHT
TZOFFSETFROM:+0100
TZOFFSETTO:+0200
TZNAME:CEST
DTSTART:20220327T010000
END:DAYLIGHT
BEGIN:STANDARD
TZOFFSETFROM:+0200
TZOFFSETTO:+0100
TZNAME:CET
DTSTART:20221030T010000
END:STANDARD
END:VTIMEZONE
BEGIN:VEVENT
DTSTART;TZID=Europe/Rome:20220112T090000
DTEND;TZID=Europe/Rome:20220112T123000
DTSTAMP:20260421T144536
CREATED:20210709T133252Z
LAST-MODIFIED:20220105T095624Z
UID:59649-1641978000-1641990600@salesianipiemonte.info
SUMMARY:Incaricati Oratorio con educatori ONLINE
DESCRIPTION:Programma\n\n9.00 Collegamenti\n9.05 Preghiera\n9.15 Presentazione dei corsi di Laurea di IUSTO e possibilità di confronto\n10.00 Fede e cultura: Il principio cristologico dell’educazione e le sue implicanze pastorali (Martelli) Intervallo\n11.00 Ritorno in plenaria e condivisione\n11.20 Avvisi\n11.30 Confronto con direttori e incaricati oratorio delle comunità salesiane con Oratorio in Torino 12.30 Saluti\n\n\nATTENZIONE\nDalle 11.30 alle 12.30 chiediamo di rimanere collegati o di collegarsi solo i direttori con oratorio in Torino e gli incaricati di oratorio di Torino.
URL:https://salesianipiemonte.info/event/incaricati-oratorio-con-educatori/
CATEGORIES:Oratorio,Parrocchia e Oratorio
ATTACH;FMTTYPE=image/jpeg:https://salesianipiemonte.info/wp-content/uploads/2021/07/Banner_ORATORI_Calendari.jpg
ORGANIZER;CN="Don%20Alberto%20Goia":MAILTO:alberto.goia@31gennaio.net
END:VEVENT
END:VCALENDAR