BEGIN:VCALENDAR
VERSION:2.0
PRODID:-//Salesiani Piemonte e Valle d&#039;Aosta - ECPv5.5.0.1//NONSGML v1.0//EN
CALSCALE:GREGORIAN
METHOD:PUBLISH
X-WR-CALNAME:Salesiani Piemonte e Valle d&#039;Aosta
X-ORIGINAL-URL:https://salesianipiemonte.info
X-WR-CALDESC:Eventi per Salesiani Piemonte e Valle d&#039;Aosta
BEGIN:VTIMEZONE
TZID:Europe/Rome
BEGIN:DAYLIGHT
TZOFFSETFROM:+0100
TZOFFSETTO:+0200
TZNAME:CEST
DTSTART:20200329T010000
END:DAYLIGHT
BEGIN:STANDARD
TZOFFSETFROM:+0200
TZOFFSETTO:+0100
TZNAME:CET
DTSTART:20201025T010000
END:STANDARD
END:VTIMEZONE
BEGIN:VEVENT
DTSTART;TZID=Europe/Rome:20200120T091500
DTEND;TZID=Europe/Rome:20200120T120000
DTSTAMP:20260425T225524
CREATED:20190705T075623Z
LAST-MODIFIED:20200117T112856Z
UID:36669-1579511700-1579521600@salesianipiemonte.info
SUMMARY:Incontro incaricati di Oratorio
DESCRIPTION:Incontro incaricati di Oratorio con gli educatori in Sala don Cocco. \nL’incontro è previsto per i salesiani e gli educatori di tutti i progetti che ci sono in casa. \nRicordo che l’incontro è previsto per i salesiani e gli educatori di TUTTI i progetti che ci sono in casa\, dunque nel limite del possibile sarebbe utile fossero presenti tutti coloro che collaborano ad educare … anche i volontari/giovani più maturi.\n\nOrario\n\nOre 09.15: accoglienza (secondo cortile – medie);\nOre 09.30: inizio incontro con la relazione di don Mario Fissore;\nOre 10.15: confronto in assemblea;\nOre 10.30: pausa;\nOre 10.50: lavoro per equipe;\nOre 11.50: comunicazioni;\nOre 12.00: fine lavori.\n\n 
URL:https://salesianipiemonte.info/event/incontri-incaricati-di-oratorio-2019-20-3/
LOCATION:Valdocco\, Sala don Cocco\, Via Maria Ausiliatrice 32\, Torino\, 10152\, Italia
CATEGORIES:Oratorio,Parrocchia e Oratorio
ATTACH;FMTTYPE=image/png:https://salesianipiemonte.info/wp-content/uploads/2018/07/menu-pr-24.png
ORGANIZER;CN="Don%20Stefano%20Mondin":MAILTO:stefano.mondin@31gennaio.net - pg@salesianipiemonte.it
END:VEVENT
END:VCALENDAR