BEGIN:VCALENDAR
VERSION:2.0
PRODID:-//Salesiani Piemonte e Valle d&#039;Aosta - ECPv5.5.0.1//NONSGML v1.0//EN
CALSCALE:GREGORIAN
METHOD:PUBLISH
X-WR-CALNAME:Salesiani Piemonte e Valle d&#039;Aosta
X-ORIGINAL-URL:https://salesianipiemonte.info
X-WR-CALDESC:Eventi per Salesiani Piemonte e Valle d&#039;Aosta
BEGIN:VTIMEZONE
TZID:Europe/Rome
BEGIN:DAYLIGHT
TZOFFSETFROM:+0100
TZOFFSETTO:+0200
TZNAME:CEST
DTSTART:20210328T010000
END:DAYLIGHT
BEGIN:STANDARD
TZOFFSETFROM:+0200
TZOFFSETTO:+0100
TZNAME:CET
DTSTART:20211031T010000
END:STANDARD
END:VTIMEZONE
BEGIN:VEVENT
DTSTART;TZID=Europe/Rome:20210421T150000
DTEND;TZID=Europe/Rome:20210421T180000
DTSTAMP:20260421T152832
CREATED:20200804T094649Z
LAST-MODIFIED:20210419T153759Z
UID:50564-1619017200-1619028000@salesianipiemonte.info
SUMMARY:MODALITA’ ONLINE – Incontro catechisti CFP
DESCRIPTION:Incontro confermato in modalità online.\nOGGETTO: riflessione sul progetto pastorale e le figura del catechista.\n\n\nODG:\n– restituzione del lavoro iniziato sul “catechista /referente della fede”;\n– un momento formativo con don Michal Vojtas SDB sull’accompagnamento.
URL:https://salesianipiemonte.info/event/incontro-catechisti-cfp-2020-04/
CATEGORIES:CNOS-FAP
ATTACH;FMTTYPE=image/png:https://salesianipiemonte.info/wp-content/uploads/2017/08/menu-pr-28.png
END:VEVENT
END:VCALENDAR