BEGIN:VCALENDAR
VERSION:2.0
PRODID:-//Salesiani Piemonte e Valle d&#039;Aosta - ECPv5.5.0.1//NONSGML v1.0//EN
CALSCALE:GREGORIAN
METHOD:PUBLISH
X-WR-CALNAME:Salesiani Piemonte e Valle d&#039;Aosta
X-ORIGINAL-URL:https://salesianipiemonte.info
X-WR-CALDESC:Eventi per Salesiani Piemonte e Valle d&#039;Aosta
BEGIN:VTIMEZONE
TZID:Europe/Rome
BEGIN:DAYLIGHT
TZOFFSETFROM:+0100
TZOFFSETTO:+0200
TZNAME:CEST
DTSTART:20210328T010000
END:DAYLIGHT
BEGIN:STANDARD
TZOFFSETFROM:+0200
TZOFFSETTO:+0100
TZNAME:CET
DTSTART:20211031T010000
END:STANDARD
END:VTIMEZONE
BEGIN:VEVENT
DTSTART;TZID=Europe/Rome:20210414T150000
DTEND;TZID=Europe/Rome:20210414T170000
DTSTAMP:20260421T191730
CREATED:20200729T134900Z
LAST-MODIFIED:20210409T100753Z
UID:50486-1618412400-1618419600@salesianipiemonte.info
SUMMARY:MODALITA' ONLINE - Incontro Catechisti Scuole (Zoom)
DESCRIPTION:Incontro confermato in modalità online su Zoom.\nOGGETTO: riflessione sul progetto pastorale e le figura del catechista.
URL:https://salesianipiemonte.info/event/incontro-catechisti-scuole-2020-04/
CATEGORIES:Ispettoria,Scuola
ATTACH;FMTTYPE=image/png:https://salesianipiemonte.info/wp-content/uploads/2018/07/menu-pr-25.png
END:VEVENT
END:VCALENDAR