BEGIN:VCALENDAR
VERSION:2.0
PRODID:-//Salesiani Piemonte e Valle d&#039;Aosta - ECPv5.5.0.1//NONSGML v1.0//EN
CALSCALE:GREGORIAN
METHOD:PUBLISH
X-WR-CALNAME:Salesiani Piemonte e Valle d&#039;Aosta
X-ORIGINAL-URL:https://salesianipiemonte.info
X-WR-CALDESC:Eventi per Salesiani Piemonte e Valle d&#039;Aosta
BEGIN:VTIMEZONE
TZID:Europe/Rome
BEGIN:DAYLIGHT
TZOFFSETFROM:+0100
TZOFFSETTO:+0200
TZNAME:CEST
DTSTART:20200329T010000
END:DAYLIGHT
BEGIN:STANDARD
TZOFFSETFROM:+0200
TZOFFSETTO:+0100
TZNAME:CET
DTSTART:20201025T010000
END:STANDARD
END:VTIMEZONE
BEGIN:VEVENT
DTSTART;TZID=Europe/Rome:20200209T153000
DTEND;TZID=Europe/Rome:20200209T190000
DTSTAMP:20260423T133153
CREATED:20190704T145952Z
LAST-MODIFIED:20200204T104438Z
UID:36515-1581262200-1581274800@salesianipiemonte.info
SUMMARY:Assemblea MGS: Direttori e Giovani
DESCRIPTION:“Voi non siete il futuro\, siete l’adesso di Dio”\nOrario: \n\nOre 15.30: ritrovo accoglienza (Sala Sangalli)\nOre 15.45: preghiera iniziale ed introduzione (Breve riepilogo dei passi fatti)\n_ Breve video innesco: Papa Francesco ci inviata al sano protagonismo dei giovani\n_ Presentazione del materiale ricevuto dalla case da parte di un giovane della segreteria del MGS\nOre 16.00: “Giovani e consacrati insieme”. Fondamento carismatico ed ecclesiale (Ispettore)\nOre 16.20: lavoro a gruppi\nOre 17.35: buffet\nOre 18.00: vespro (San Francesco di Sales)\nOre 18.20: conclusioni e votazione degli orientamenti per il futuro\nOre 19.00: Termine dell’incontro
URL:https://salesianipiemonte.info/event/incontro-direttori-2019-20-5/
LOCATION:Valdocco
CATEGORIES:Direttori,Ispettoria,Movimento Giovanile Salesiano
ATTACH;FMTTYPE=image/png:https://salesianipiemonte.info/wp-content/uploads/2018/07/capitolo-ispettoriali.png
ORGANIZER;CN="Don%20Stefano%20Mondin":MAILTO:stefano.mondin@31gennaio.net - pg@salesianipiemonte.it
END:VEVENT
END:VCALENDAR