BEGIN:VCALENDAR
VERSION:2.0
PRODID:-//Salesiani Piemonte e Valle d&#039;Aosta - ECPv5.5.0.1//NONSGML v1.0//EN
CALSCALE:GREGORIAN
METHOD:PUBLISH
X-WR-CALNAME:Salesiani Piemonte e Valle d&#039;Aosta
X-ORIGINAL-URL:https://salesianipiemonte.info
X-WR-CALDESC:Eventi per Salesiani Piemonte e Valle d&#039;Aosta
BEGIN:VTIMEZONE
TZID:Europe/Rome
BEGIN:DAYLIGHT
TZOFFSETFROM:+0100
TZOFFSETTO:+0200
TZNAME:CEST
DTSTART:20210328T010000
END:DAYLIGHT
BEGIN:STANDARD
TZOFFSETFROM:+0200
TZOFFSETTO:+0100
TZNAME:CET
DTSTART:20211031T010000
END:STANDARD
END:VTIMEZONE
BEGIN:VEVENT
DTSTART;TZID=Europe/Rome:20210208T093000
DTEND;TZID=Europe/Rome:20210208T123000
DTSTAMP:20260425T000916
CREATED:20200729T131924Z
LAST-MODIFIED:20210205T093558Z
UID:50468-1612776600-1612787400@salesianipiemonte.info
SUMMARY:Incontro Direttori - MODALITÀ ONLINE
DESCRIPTION:Incontro su Zoom \nOrdine del Giorno \n\n9.15: Connessione (a partire dalle 09.15)\n9.30: Preghiera\n9.40: Presentazione del documento: Animazione e governo della comunità. Il servizio del direttore salesiano – Don Silvio Roggia\n10.20: Risonanze e domande al relatore\n11.00: Coffee break (ognuno a casa sua)\n11.15: Breve verifica sui materiali (video) inviati durante la pandemia\n11.40: Comunicazioni dell’Ispettore\n12.00: Comunicazioni degli Incaricati ispettoriali
URL:https://salesianipiemonte.info/event/incontro-direttori-2020-02/
CATEGORIES:Direttori,Ispettoria
ATTACH;FMTTYPE=image/png:https://salesianipiemonte.info/wp-content/uploads/2018/07/capitolo-ispettoriali.png
END:VEVENT
END:VCALENDAR