BEGIN:VCALENDAR
VERSION:2.0
PRODID:-//Salesiani Piemonte e Valle d&#039;Aosta - ECPv5.5.0.1//NONSGML v1.0//EN
CALSCALE:GREGORIAN
METHOD:PUBLISH
X-WR-CALNAME:Salesiani Piemonte e Valle d&#039;Aosta
X-ORIGINAL-URL:https://salesianipiemonte.info
X-WR-CALDESC:Eventi per Salesiani Piemonte e Valle d&#039;Aosta
BEGIN:VTIMEZONE
TZID:Europe/Rome
BEGIN:DAYLIGHT
TZOFFSETFROM:+0100
TZOFFSETTO:+0200
TZNAME:CEST
DTSTART:20210328T010000
END:DAYLIGHT
BEGIN:STANDARD
TZOFFSETFROM:+0200
TZOFFSETTO:+0100
TZNAME:CET
DTSTART:20211031T010000
END:STANDARD
END:VTIMEZONE
BEGIN:VEVENT
DTSTART;TZID=Europe/Rome:20210615T090000
DTEND;TZID=Europe/Rome:20210615T163000
DTSTAMP:20260424T230521
CREATED:20200804T131203Z
LAST-MODIFIED:20210604T123637Z
UID:50672-1623747600-1623774600@salesianipiemonte.info
SUMMARY:Incontro direttori CFP
DESCRIPTION:Evento confermato presso la sede regionale CNOS-FAP.\n\n\n\nOrdine del giorno:\n\n\n\nUso di Tazebao per la rendicontazione del personale\nRiesame della direzione\nNuovo assetto regionale
URL:https://salesianipiemonte.info/event/incontro-direttori-cfp-2020-16/
LOCATION:CNOS-FAP Valdocco\, Via Maria Ausiliatrice\, 36\, Torino\, 10152\, Italia
CATEGORIES:CNOS-FAP
ATTACH;FMTTYPE=image/png:https://salesianipiemonte.info/wp-content/uploads/2017/08/menu-pr-28.png
ORGANIZER;CN="Lucio%20Reghellin":MAILTO:lucio.reghellin@cnosfap.net
END:VEVENT
END:VCALENDAR