BEGIN:VCALENDAR
VERSION:2.0
PRODID:-//Salesiani Piemonte e Valle d&#039;Aosta - ECPv5.5.0.1//NONSGML v1.0//EN
CALSCALE:GREGORIAN
METHOD:PUBLISH
X-WR-CALNAME:Salesiani Piemonte e Valle d&#039;Aosta
X-ORIGINAL-URL:https://salesianipiemonte.info
X-WR-CALDESC:Eventi per Salesiani Piemonte e Valle d&#039;Aosta
BEGIN:VTIMEZONE
TZID:Europe/Rome
BEGIN:DAYLIGHT
TZOFFSETFROM:+0100
TZOFFSETTO:+0200
TZNAME:CEST
DTSTART:20230326T010000
END:DAYLIGHT
BEGIN:STANDARD
TZOFFSETFROM:+0200
TZOFFSETTO:+0100
TZNAME:CET
DTSTART:20231029T010000
END:STANDARD
END:VTIMEZONE
BEGIN:VEVENT
DTSTART;VALUE=DATE:20231128
DTEND;VALUE=DATE:20231130
DTSTAMP:20260424T042054
CREATED:20230620T090332Z
LAST-MODIFIED:20230622T125933Z
UID:81809-1701129600-1701302399@salesianipiemonte.info
SUMMARY:Incontro incaricati di oratorio
DESCRIPTION:Primo giorno incontro con i parroci Crocetta – Avigliana. \nComunità di vita (riflessione sull’abitare).
URL:https://salesianipiemonte.info/event/incontro-incaricati-di-oratorio-nov2023/
LOCATION:Crocetta
CATEGORIES:Oratorio,Parrocchia,Parrocchia e Oratorio
ATTACH;FMTTYPE=image/png:https://salesianipiemonte.info/wp-content/uploads/2018/07/menu-pr-24.png
ORGANIZER;CN="Don%20Alberto%20Goia":MAILTO:alberto.goia@31gennaio.net
END:VEVENT
END:VCALENDAR