BEGIN:VCALENDAR
VERSION:2.0
PRODID:-//Salesiani Piemonte e Valle d&#039;Aosta - ECPv5.5.0.1//NONSGML v1.0//EN
CALSCALE:GREGORIAN
METHOD:PUBLISH
X-WR-CALNAME:Salesiani Piemonte e Valle d&#039;Aosta
X-ORIGINAL-URL:https://salesianipiemonte.info
X-WR-CALDESC:Eventi per Salesiani Piemonte e Valle d&#039;Aosta
BEGIN:VTIMEZONE
TZID:Europe/Rome
BEGIN:DAYLIGHT
TZOFFSETFROM:+0100
TZOFFSETTO:+0200
TZNAME:CEST
DTSTART:20210328T010000
END:DAYLIGHT
BEGIN:STANDARD
TZOFFSETFROM:+0200
TZOFFSETTO:+0100
TZNAME:CET
DTSTART:20211031T010000
END:STANDARD
END:VTIMEZONE
BEGIN:VEVENT
DTSTART;VALUE=DATE:20210928
DTEND;VALUE=DATE:20210929
DTSTAMP:20260424T223253
CREATED:20210721T135127Z
LAST-MODIFIED:20210721T135127Z
UID:60480-1632787200-1632873599@salesianipiemonte.info
SUMMARY:Neo assunti CNOS
DESCRIPTION:
URL:https://salesianipiemonte.info/event/neo-assunti-cnos/
CATEGORIES:CNOS-FAP
ATTACH;FMTTYPE=image/gif:https://salesianipiemonte.info/wp-content/uploads/2016/07/CnosFap-RGB.gif
ORGANIZER;CN="Don%20Alberto%20Martelli":MAILTO:alberto.martelli@cnosfap.net
END:VEVENT
END:VCALENDAR