BEGIN:VCALENDAR
VERSION:2.0
PRODID:-//Salesiani Piemonte e Valle d&#039;Aosta - ECPv5.5.0.1//NONSGML v1.0//EN
CALSCALE:GREGORIAN
METHOD:PUBLISH
X-WR-CALNAME:Salesiani Piemonte e Valle d&#039;Aosta
X-ORIGINAL-URL:https://salesianipiemonte.info
X-WR-CALDESC:Eventi per Salesiani Piemonte e Valle d&#039;Aosta
BEGIN:VTIMEZONE
TZID:Europe/Rome
BEGIN:DAYLIGHT
TZOFFSETFROM:+0100
TZOFFSETTO:+0200
TZNAME:CEST
DTSTART:20250330T010000
END:DAYLIGHT
BEGIN:STANDARD
TZOFFSETFROM:+0200
TZOFFSETTO:+0100
TZNAME:CET
DTSTART:20251026T010000
END:STANDARD
END:VTIMEZONE
BEGIN:VEVENT
DTSTART;VALUE=DATE:20250319
DTEND;VALUE=DATE:20250320
DTSTAMP:20260421T154205
CREATED:20240705T083252Z
LAST-MODIFIED:20240705T083252Z
UID:91160-1742342400-1742428799@salesianipiemonte.info
SUMMARY:Parrocchie con laici on line (pm)
DESCRIPTION:
URL:https://salesianipiemonte.info/event/parrocchie-con-laici-2025/
CATEGORIES:Oratorio,Parrocchia e Oratorio
ATTACH;FMTTYPE=image/png:https://salesianipiemonte.info/wp-content/uploads/2018/07/menu-pr-24.png
ORGANIZER;CN="Don%20Stefano%20Mondin":MAILTO:stefano.mondin@31gennaio.net - pg@salesianipiemonte.it
END:VEVENT
END:VCALENDAR