BEGIN:VCALENDAR
VERSION:2.0
PRODID:-//Salesiani Piemonte e Valle d&#039;Aosta - ECPv5.5.0.1//NONSGML v1.0//EN
CALSCALE:GREGORIAN
METHOD:PUBLISH
X-WR-CALNAME:Salesiani Piemonte e Valle d&#039;Aosta
X-ORIGINAL-URL:https://salesianipiemonte.info
X-WR-CALDESC:Eventi per Salesiani Piemonte e Valle d&#039;Aosta
BEGIN:VTIMEZONE
TZID:Europe/Rome
BEGIN:DAYLIGHT
TZOFFSETFROM:+0100
TZOFFSETTO:+0200
TZNAME:CEST
DTSTART:20210328T010000
END:DAYLIGHT
BEGIN:STANDARD
TZOFFSETFROM:+0200
TZOFFSETTO:+0100
TZNAME:CET
DTSTART:20211031T010000
END:STANDARD
END:VTIMEZONE
BEGIN:VEVENT
DTSTART;TZID=Europe/Rome:20210522T093000
DTEND;TZID=Europe/Rome:20210523T180000
DTSTAMP:20260421T130653
CREATED:20210423T152528Z
LAST-MODIFIED:20210423T152907Z
UID:57223-1621675800-1621792800@salesianipiemonte.info
SUMMARY:Percorso Missionario “Nel cuore del mondo” – incontro 06 – Il gruppo in missione
DESCRIPTION:L’incontro sulla vita di gruppo in missione\, previsto per 10/11 aprile\, è stato rimandato a oggi\, 22 maggio. \nSi terrà in presenza tutto il giorno\, dalle 9.30/18\, a Torino dalla PG FMA. \nDurante la giornata recupereremo anche il MANDATO MISSIONARIO alla presenza di ispettore e ispettrice. \n 
URL:https://salesianipiemonte.info/event/percorso-missionario-nel-cuore-del-mondo-incontro-06-il-gruppo-in-missione-2/
CATEGORIES:Animazione Missionaria,Corso Partenti,I anno,II anno
ATTACH;FMTTYPE=image/jpeg:https://salesianipiemonte.info/wp-content/uploads/2018/07/menu-AM-500.jpg
ORGANIZER;CN="Don%20Fabio%20Mamino":MAILTO:am@31gennaio.net
END:VEVENT
END:VCALENDAR