BEGIN:VCALENDAR
VERSION:2.0
PRODID:-//Salesiani Piemonte e Valle d&#039;Aosta - ECPv5.5.0.1//NONSGML v1.0//EN
CALSCALE:GREGORIAN
METHOD:PUBLISH
X-WR-CALNAME:Salesiani Piemonte e Valle d&#039;Aosta
X-ORIGINAL-URL:https://salesianipiemonte.info
X-WR-CALDESC:Eventi per Salesiani Piemonte e Valle d&#039;Aosta
BEGIN:VTIMEZONE
TZID:Europe/Rome
BEGIN:DAYLIGHT
TZOFFSETFROM:+0100
TZOFFSETTO:+0200
TZNAME:CEST
DTSTART:20210328T010000
END:DAYLIGHT
BEGIN:STANDARD
TZOFFSETFROM:+0200
TZOFFSETTO:+0100
TZNAME:CET
DTSTART:20211031T010000
END:STANDARD
END:VTIMEZONE
BEGIN:VEVENT
DTSTART;VALUE=DATE:20210718
DTEND;VALUE=DATE:20210719
DTSTAMP:20260422T092147
CREATED:20200804T140723Z
LAST-MODIFIED:20200804T140723Z
UID:50714-1626566400-1626652799@salesianipiemonte.info
SUMMARY:Percorso Missionario “Nel cuore del mondo” – Ritiro spirituale per i partenti
DESCRIPTION:
URL:https://salesianipiemonte.info/event/percorso-missionario-nel-cuore-del-mondo-ritiro-spirituale-per-i-partenti/
CATEGORIES:Animazione Missionaria,Corso Partenti,I anno,II anno
ATTACH;FMTTYPE=image/jpeg:https://salesianipiemonte.info/wp-content/uploads/2018/07/menu-AM-500.jpg
ORGANIZER;CN="Don%20Fabio%20Mamino":MAILTO:am@31gennaio.net
END:VEVENT
END:VCALENDAR