BEGIN:VCALENDAR
VERSION:2.0
PRODID:-//Salesiani Piemonte e Valle d&#039;Aosta - ECPv5.5.0.1//NONSGML v1.0//EN
CALSCALE:GREGORIAN
METHOD:PUBLISH
X-WR-CALNAME:Salesiani Piemonte e Valle d&#039;Aosta
X-ORIGINAL-URL:https://salesianipiemonte.info
X-WR-CALDESC:Eventi per Salesiani Piemonte e Valle d&#039;Aosta
BEGIN:VTIMEZONE
TZID:Europe/Rome
BEGIN:DAYLIGHT
TZOFFSETFROM:+0100
TZOFFSETTO:+0200
TZNAME:CEST
DTSTART:20250330T010000
END:DAYLIGHT
BEGIN:STANDARD
TZOFFSETFROM:+0200
TZOFFSETTO:+0100
TZNAME:CET
DTSTART:20251026T010000
END:STANDARD
END:VTIMEZONE
BEGIN:VEVENT
DTSTART;TZID=Europe/Rome:20250123T143000
DTEND;TZID=Europe/Rome:20250123T170000
DTSTAMP:20260421T113059
CREATED:20240611T084207Z
LAST-MODIFIED:20250116T140804Z
UID:90369-1737642600-1737651600@salesianipiemonte.info
SUMMARY:Presidi\, catechisti ed equipe Scuola (online)
DESCRIPTION:
URL:https://salesianipiemonte.info/event/presidi-catechisti-ed-equipe-scuola-online/
CATEGORIES:Scuola
ATTACH;FMTTYPE=image/jpeg:https://salesianipiemonte.info/wp-content/uploads/2021/07/Banner_Calendari_Scuola.jpg
END:VEVENT
END:VCALENDAR