BEGIN:VCALENDAR
VERSION:2.0
PRODID:-//Salesiani Piemonte e Valle d&#039;Aosta - ECPv5.5.0.1//NONSGML v1.0//EN
CALSCALE:GREGORIAN
METHOD:PUBLISH
X-WR-CALNAME:Salesiani Piemonte e Valle d&#039;Aosta
X-ORIGINAL-URL:https://salesianipiemonte.info
X-WR-CALDESC:Eventi per Salesiani Piemonte e Valle d&#039;Aosta
BEGIN:VTIMEZONE
TZID:Europe/Rome
BEGIN:DAYLIGHT
TZOFFSETFROM:+0100
TZOFFSETTO:+0200
TZNAME:CEST
DTSTART:20240331T010000
END:DAYLIGHT
BEGIN:STANDARD
TZOFFSETFROM:+0200
TZOFFSETTO:+0100
TZNAME:CET
DTSTART:20241027T010000
END:STANDARD
END:VTIMEZONE
BEGIN:VEVENT
DTSTART;TZID=Europe/Rome:20240621T080000
DTEND;TZID=Europe/Rome:20240623T170000
DTSTAMP:20260424T204203
CREATED:20230718T142345Z
LAST-MODIFIED:20230718T142345Z
UID:83502-1718956800-1719162000@salesianipiemonte.info
SUMMARY:SALESIANI ITALIA - CGS: Sal Fiction e Consiglio direttivo nazionale
DESCRIPTION:
URL:https://salesianipiemonte.info/event/salesiani-italia-cgs-sal-fiction-e-consiglio-direttivo-nazionale/
CATEGORIES:CGS Italia
ATTACH;FMTTYPE=image/jpeg:https://salesianipiemonte.info/wp-content/uploads/2023/07/modello-DBITA-SP-2023-07-18T094036.918.jpg
END:VEVENT
END:VCALENDAR