BEGIN:VCALENDAR
VERSION:2.0
PRODID:-//Salesiani Piemonte e Valle d&#039;Aosta - ECPv5.5.0.1//NONSGML v1.0//EN
CALSCALE:GREGORIAN
METHOD:PUBLISH
X-WR-CALNAME:Salesiani Piemonte e Valle d&#039;Aosta
X-ORIGINAL-URL:https://salesianipiemonte.info
X-WR-CALDESC:Eventi per Salesiani Piemonte e Valle d&#039;Aosta
BEGIN:VTIMEZONE
TZID:Europe/Rome
BEGIN:DAYLIGHT
TZOFFSETFROM:+0100
TZOFFSETTO:+0200
TZNAME:CEST
DTSTART:20220327T010000
END:DAYLIGHT
BEGIN:STANDARD
TZOFFSETFROM:+0200
TZOFFSETTO:+0100
TZNAME:CET
DTSTART:20221030T010000
END:STANDARD
END:VTIMEZONE
BEGIN:VEVENT
DTSTART;VALUE=DATE:20221019
DTEND;VALUE=DATE:20221022
DTSTAMP:20260424T164553
CREATED:20220721T125534Z
LAST-MODIFIED:20221013T100819Z
UID:72022-1666137600-1666396799@salesianipiemonte.info
SUMMARY:SALESIANI ITALIA - Coordinamento PG e Uffici Nazionali
DESCRIPTION:Il Coordinamento di PG raduna tre volte l’anno i Delegati di PG delle Ispettorie italiane e i Coordinatori degli Uffici nazionali. Alcuni punti dell’ordine del giorno per questo primo appuntamento:\n1. Incontro del Coordinamento con gli Incaricati di Animazione Vocazionale e di Animazione Missionaria (che si sono incontrati il mattino): ripresa del Seminario Vocazionale\, punti fermi dell’AV e AM nelle Ispettorie italiane\, percorso di confronto/riflessione in vista dell’Assemblea di PG del 21 gennaio 2023.\n2. Salesiani per il Sociale: ripresa del Congresso delle Opere Sociali e percorso di animazione annuale a partire dall’Assemblea SXS del 16-18 settembre\n3. Formazione Professionale: aggiornamenti dal recente Consiglio Direttivo del 6-8 ottobre 2022.\n4. Scuola: la situazione delle nostre scuole e la preparazione della prossima Assemblea Nazionale di Salesiani per la Scuola – CNOS Scuola del 19-20 maggio a Firenze\n5. Ufficio Comunicazione Sociale: proposta e riflessione in vista dei prossimi appuntamenti\n6. Itinerari di educazione alla fede\, facciamo il punto.\n7. GMG di Lisbona: la partecipazione salesiana italiana\n8. Movimento Giovanile Salesiano: preparazione della Consulta\n9. Il rapporto con le PGS (definizione) e con le associazioni CGS e TGS nel loro percorso identitario.\n10. Programmazione degli eventi del 2023-2024
URL:https://salesianipiemonte.info/event/salesiani-italia-coordinamento-pg-e-uffici-nazionali/
LOCATION:Centro Nazionale Opere Salesiane\, Via Giacomo Costamagna 6\, Roma\, 00181\, Italia
CATEGORIES:Centro Nazionale,Pastorale Giovanile
ATTACH;FMTTYPE=image/jpeg:https://salesianipiemonte.info/wp-content/uploads/2021/07/Banner_DBI_Calendari.jpg
END:VEVENT
END:VCALENDAR