BEGIN:VCALENDAR
VERSION:2.0
PRODID:-//Salesiani Piemonte e Valle d&#039;Aosta - ECPv5.5.0.1//NONSGML v1.0//EN
CALSCALE:GREGORIAN
METHOD:PUBLISH
X-WR-CALNAME:Salesiani Piemonte e Valle d&#039;Aosta
X-ORIGINAL-URL:https://salesianipiemonte.info
X-WR-CALDESC:Eventi per Salesiani Piemonte e Valle d&#039;Aosta
BEGIN:VTIMEZONE
TZID:Europe/Rome
BEGIN:DAYLIGHT
TZOFFSETFROM:+0100
TZOFFSETTO:+0200
TZNAME:CEST
DTSTART:20230326T010000
END:DAYLIGHT
BEGIN:STANDARD
TZOFFSETFROM:+0200
TZOFFSETTO:+0100
TZNAME:CET
DTSTART:20231029T010000
END:STANDARD
END:VTIMEZONE
BEGIN:VEVENT
DTSTART;VALUE=DATE:20230420
DTEND;VALUE=DATE:20230421
DTSTAMP:20260421T102335
CREATED:20220721T145954Z
LAST-MODIFIED:20220721T145954Z
UID:72166-1681948800-1682035199@salesianipiemonte.info
SUMMARY:SALESIANI ITALIA – Curatorium Post-Noviziato Nave
DESCRIPTION:
URL:https://salesianipiemonte.info/event/salesiani-italia-curatorium-post-noviziato-nave-2023-apr/
LOCATION:Istituto Salesiano Paolo VI – Nave\, Via don Bosco\, 1\, Nave\, 25075\, Italia
CATEGORIES:Centro Nazionale
ATTACH;FMTTYPE=image/jpeg:https://salesianipiemonte.info/wp-content/uploads/2021/07/Banner_DBI_Calendari.jpg
END:VEVENT
END:VCALENDAR