BEGIN:VCALENDAR
VERSION:2.0
PRODID:-//Salesiani Piemonte e Valle d&#039;Aosta - ECPv5.5.0.1//NONSGML v1.0//EN
CALSCALE:GREGORIAN
METHOD:PUBLISH
X-WR-CALNAME:Salesiani Piemonte e Valle d&#039;Aosta
X-ORIGINAL-URL:https://salesianipiemonte.info
X-WR-CALDESC:Eventi per Salesiani Piemonte e Valle d&#039;Aosta
BEGIN:VTIMEZONE
TZID:Europe/Rome
BEGIN:DAYLIGHT
TZOFFSETFROM:+0100
TZOFFSETTO:+0200
TZNAME:CEST
DTSTART:20200329T010000
END:DAYLIGHT
BEGIN:STANDARD
TZOFFSETFROM:+0200
TZOFFSETTO:+0100
TZNAME:CET
DTSTART:20201025T010000
END:STANDARD
END:VTIMEZONE
BEGIN:VEVENT
DTSTART;TZID=Europe/Rome:20200112T080000
DTEND;TZID=Europe/Rome:20200113T170000
DTSTAMP:20260426T000752
CREATED:20190705T132424Z
LAST-MODIFIED:20190705T132424Z
UID:36927-1578816000-1578934800@salesianipiemonte.info
SUMMARY:SALESIANI ITALIA - Presindenza CISI
DESCRIPTION:
URL:https://salesianipiemonte.info/event/salesiani-italia-presindenza-cisi/
LOCATION:Istituto Salesiano San Tarcisio\, Via Appia Antica\, 102\, Roma\, 00179\, Italia
CATEGORIES:Centro Nazionale
ATTACH;FMTTYPE=image/png:https://salesianipiemonte.info/wp-content/uploads/2019/06/sdb-logo-4-761x321-1.png
END:VEVENT
END:VCALENDAR