BEGIN:VCALENDAR
VERSION:2.0
PRODID:-//Salesiani Piemonte e Valle d&#039;Aosta - ECPv5.5.0.1//NONSGML v1.0//EN
CALSCALE:GREGORIAN
METHOD:PUBLISH
X-WR-CALNAME:Salesiani Piemonte e Valle d&#039;Aosta
X-ORIGINAL-URL:https://salesianipiemonte.info
X-WR-CALDESC:Eventi per Salesiani Piemonte e Valle d&#039;Aosta
BEGIN:VTIMEZONE
TZID:Europe/Rome
BEGIN:DAYLIGHT
TZOFFSETFROM:+0100
TZOFFSETTO:+0200
TZNAME:CEST
DTSTART:20210328T010000
END:DAYLIGHT
BEGIN:STANDARD
TZOFFSETFROM:+0200
TZOFFSETTO:+0100
TZNAME:CET
DTSTART:20211031T010000
END:STANDARD
END:VTIMEZONE
BEGIN:VEVENT
DTSTART;TZID=Europe/Rome:20211203T100000
DTEND;TZID=Europe/Rome:20211203T130000
DTSTAMP:20260422T055109
CREATED:20210709T135157Z
LAST-MODIFIED:20211202T114054Z
UID:59716-1638525600-1638536400@salesianipiemonte.info
SUMMARY:SALESIANI ITALIA -Ufficio Comunicazione Sociale - modalità online
DESCRIPTION:L’ufficio nazionale di CS si riunirà in modalità online
URL:https://salesianipiemonte.info/event/salesiani-italia-roma-ufficio-comunicazione-sociale/
CATEGORIES:Centro Nazionale
ATTACH;FMTTYPE=image/jpeg:https://salesianipiemonte.info/wp-content/uploads/2021/07/Banner_DBI_Calendari.jpg
ORGANIZER;CN="ufficio%20Comunicazione%20Sociale":MAILTO:ufficiostampa@donboscoitalia.it
END:VEVENT
END:VCALENDAR