BEGIN:VCALENDAR
VERSION:2.0
PRODID:-//Salesiani Piemonte e Valle d&#039;Aosta - ECPv5.5.0.1//NONSGML v1.0//EN
CALSCALE:GREGORIAN
METHOD:PUBLISH
X-WR-CALNAME:Salesiani Piemonte e Valle d&#039;Aosta
X-ORIGINAL-URL:https://salesianipiemonte.info
X-WR-CALDESC:Eventi per Salesiani Piemonte e Valle d&#039;Aosta
BEGIN:VTIMEZONE
TZID:Europe/Rome
BEGIN:DAYLIGHT
TZOFFSETFROM:+0100
TZOFFSETTO:+0200
TZNAME:CEST
DTSTART:20240331T010000
END:DAYLIGHT
BEGIN:STANDARD
TZOFFSETFROM:+0200
TZOFFSETTO:+0100
TZNAME:CET
DTSTART:20241027T010000
END:STANDARD
END:VTIMEZONE
BEGIN:VEVENT
DTSTART;VALUE=DATE:20240510
DTEND;VALUE=DATE:20240511
DTSTAMP:20260423T073029
CREATED:20230718T141029Z
LAST-MODIFIED:20230718T141029Z
UID:83488-1715299200-1715385599@salesianipiemonte.info
SUMMARY:SALESIANI ITALIA - Salesiani Cooperatori ITA MOR consulta
DESCRIPTION:
URL:https://salesianipiemonte.info/event/salesiani-italia-salesiani-cooperatori-ita-mor-consulta-4/
LOCATION:Evento online
CATEGORIES:Cooperatori,Famiglia Salesiana
ATTACH;FMTTYPE=image/jpeg:https://salesianipiemonte.info/wp-content/uploads/2023/07/modello-DBITA-SP-2023-07-18T094036.918.jpg
END:VEVENT
END:VCALENDAR