BEGIN:VCALENDAR
VERSION:2.0
PRODID:-//Salesiani Piemonte e Valle d&#039;Aosta - ECPv5.5.0.1//NONSGML v1.0//EN
CALSCALE:GREGORIAN
METHOD:PUBLISH
X-WR-CALNAME:Salesiani Piemonte e Valle d&#039;Aosta
X-ORIGINAL-URL:https://salesianipiemonte.info
X-WR-CALDESC:Eventi per Salesiani Piemonte e Valle d&#039;Aosta
BEGIN:VTIMEZONE
TZID:Europe/Rome
BEGIN:DAYLIGHT
TZOFFSETFROM:+0100
TZOFFSETTO:+0200
TZNAME:CEST
DTSTART:20230326T010000
END:DAYLIGHT
BEGIN:STANDARD
TZOFFSETFROM:+0200
TZOFFSETTO:+0100
TZNAME:CET
DTSTART:20231029T010000
END:STANDARD
END:VTIMEZONE
BEGIN:VEVENT
DTSTART;TZID=Europe/Rome:20231214T103000
DTEND;TZID=Europe/Rome:20231214T163000
DTSTAMP:20260424T032910
CREATED:20230626T124235Z
LAST-MODIFIED:20230626T124235Z
UID:82709-1702549800-1702571400@salesianipiemonte.info
SUMMARY:SALESIANI ITALIA - Salesiani per il Sociale APS Consiglio direttivo nazionale
DESCRIPTION:
URL:https://salesianipiemonte.info/event/salesiani-italia-salesiani-per-il-sociale-aps-consiglio-direttivo-nazionale-2/
LOCATION:Centro Nazionale Opere Salesiane\, Via Giacomo Costamagna 6\, Roma\, 00181\, Italia
CATEGORIES:SCS
ATTACH;FMTTYPE=image/jpeg:https://salesianipiemonte.info/wp-content/uploads/2021/06/prova-sfondo-calendario.jpg
END:VEVENT
END:VCALENDAR