BEGIN:VCALENDAR
VERSION:2.0
PRODID:-//Salesiani Piemonte e Valle d&#039;Aosta - ECPv5.5.0.1//NONSGML v1.0//EN
CALSCALE:GREGORIAN
METHOD:PUBLISH
X-WR-CALNAME:Salesiani Piemonte e Valle d&#039;Aosta
X-ORIGINAL-URL:https://salesianipiemonte.info
X-WR-CALDESC:Eventi per Salesiani Piemonte e Valle d&#039;Aosta
BEGIN:VTIMEZONE
TZID:Europe/Rome
BEGIN:DAYLIGHT
TZOFFSETFROM:+0100
TZOFFSETTO:+0200
TZNAME:CEST
DTSTART:20210328T010000
END:DAYLIGHT
BEGIN:STANDARD
TZOFFSETFROM:+0200
TZOFFSETTO:+0100
TZNAME:CET
DTSTART:20211031T010000
END:STANDARD
END:VTIMEZONE
BEGIN:VEVENT
DTSTART;VALUE=DATE:20211204
DTEND;VALUE=DATE:20211206
DTSTAMP:20260422T043816
CREATED:20210709T135337Z
LAST-MODIFIED:20211202T125751Z
UID:59722-1638576000-1638748799@salesianipiemonte.info
SUMMARY:SALESIANI ITALIA - Segreteria Nazionale MGS
DESCRIPTION:Il 4 e 5 dicembre si raduna la Segreteria Nazionale MGS composta da 6 giovani (Elena\, Stefano\, Erica\, Gessica\, Giuseppe e Beatrice) in rappresentanza dei territori in cui è suddivisa l’Italia assieme a sr Mara e a don Roberto. A tema la verifica della scorsa Assemblea MGS tenutasi a Mestre (VE) in ottobre\, la comunicazione a riguardo dell’Assemblea europea del MGS che si è svolta a Malta lo scorso fine settimana\, la programmazione della sussidiazione pastorale per il prossimo anno\, la preparazione della Consulta Nazionale di febbraio.
URL:https://salesianipiemonte.info/event/salesiani-italia-segreteria-nazionale-mgs-7/
LOCATION:Istituto Salesiano Pio XI\, Via Umbertide\, 11\, Roma\, 00181\, Italia
CATEGORIES:Centro Nazionale
ATTACH;FMTTYPE=image/jpeg:https://salesianipiemonte.info/wp-content/uploads/2021/07/Banner_DBI_Calendari.jpg
END:VEVENT
END:VCALENDAR