BEGIN:VCALENDAR
VERSION:2.0
PRODID:-//Salesiani Piemonte e Valle d&#039;Aosta - ECPv5.5.0.1//NONSGML v1.0//EN
CALSCALE:GREGORIAN
METHOD:PUBLISH
X-WR-CALNAME:Salesiani Piemonte e Valle d&#039;Aosta
X-ORIGINAL-URL:https://salesianipiemonte.info
X-WR-CALDESC:Eventi per Salesiani Piemonte e Valle d&#039;Aosta
BEGIN:VTIMEZONE
TZID:Europe/Rome
BEGIN:DAYLIGHT
TZOFFSETFROM:+0100
TZOFFSETTO:+0200
TZNAME:CEST
DTSTART:20250330T010000
END:DAYLIGHT
BEGIN:STANDARD
TZOFFSETFROM:+0200
TZOFFSETTO:+0100
TZNAME:CET
DTSTART:20251026T010000
END:STANDARD
END:VTIMEZONE
BEGIN:VEVENT
DTSTART;VALUE=DATE:20250218
DTEND;VALUE=DATE:20250219
DTSTAMP:20260421T220206
CREATED:20240716T103019Z
LAST-MODIFIED:20240716T103025Z
UID:91541-1739836800-1739923199@salesianipiemonte.info
SUMMARY:SALESIANI ITALIA - Tavolo co-programmazione Italia Salesiana
DESCRIPTION:
URL:https://salesianipiemonte.info/event/salesiani-italia-tavolo-co-programmazione-italia-salesiana-feb25/
CATEGORIES:Centro Nazionale,Formazione Professionale
ATTACH;FMTTYPE=image/png:https://salesianipiemonte.info/wp-content/uploads/2019/06/sdb-logo-4-761x321-1.png
ORGANIZER;CN="Don%20Roberto%20Dal%20Molin":MAILTO:segretariogeneralecisi@donboscoitalia.it
END:VEVENT
END:VCALENDAR