BEGIN:VCALENDAR
VERSION:2.0
PRODID:-//Salesiani Piemonte e Valle d&#039;Aosta - ECPv5.5.0.1//NONSGML v1.0//EN
CALSCALE:GREGORIAN
METHOD:PUBLISH
X-WR-CALNAME:Salesiani Piemonte e Valle d&#039;Aosta
X-ORIGINAL-URL:https://salesianipiemonte.info
X-WR-CALDESC:Eventi per Salesiani Piemonte e Valle d&#039;Aosta
BEGIN:VTIMEZONE
TZID:Europe/Rome
BEGIN:DAYLIGHT
TZOFFSETFROM:+0100
TZOFFSETTO:+0200
TZNAME:CEST
DTSTART:20220327T010000
END:DAYLIGHT
BEGIN:STANDARD
TZOFFSETFROM:+0200
TZOFFSETTO:+0100
TZNAME:CET
DTSTART:20221030T010000
END:STANDARD
END:VTIMEZONE
BEGIN:VEVENT
DTSTART;VALUE=DATE:20221012
DTEND;VALUE=DATE:20221013
DTSTAMP:20260424T165710
CREATED:20220721T105753Z
LAST-MODIFIED:20220721T105753Z
UID:71998-1665532800-1665619199@salesianipiemonte.info
SUMMARY:SALESIANI ITALIA - Ufficio Emarginazione e Disagio
DESCRIPTION:
URL:https://salesianipiemonte.info/event/salesiani-italia-ufficio-emarginazione-e-disagio/
LOCATION:Centro Nazionale Opere Salesiane\, Via Giacomo Costamagna 6\, Roma\, 00181\, Italia
CATEGORIES:Centro Nazionale
ATTACH;FMTTYPE=image/jpeg:https://salesianipiemonte.info/wp-content/uploads/2021/07/Banner_DBI_Calendari.jpg
END:VEVENT
END:VCALENDAR