BEGIN:VCALENDAR
VERSION:2.0
PRODID:-//Salesiani Piemonte e Valle d&#039;Aosta - ECPv5.5.0.1//NONSGML v1.0//EN
CALSCALE:GREGORIAN
METHOD:PUBLISH
X-WR-CALNAME:Salesiani Piemonte e Valle d&#039;Aosta
X-ORIGINAL-URL:https://salesianipiemonte.info
X-WR-CALDESC:Eventi per Salesiani Piemonte e Valle d&#039;Aosta
BEGIN:VTIMEZONE
TZID:Europe/Rome
BEGIN:DAYLIGHT
TZOFFSETFROM:+0100
TZOFFSETTO:+0200
TZNAME:CEST
DTSTART:20220327T010000
END:DAYLIGHT
BEGIN:STANDARD
TZOFFSETFROM:+0200
TZOFFSETTO:+0100
TZNAME:CET
DTSTART:20221030T010000
END:STANDARD
END:VTIMEZONE
BEGIN:VEVENT
DTSTART;TZID=Europe/Rome:20221017T103000
DTEND;TZID=Europe/Rome:20221018T163000
DTSTAMP:20260424T164217
CREATED:20220721T123447Z
LAST-MODIFIED:20221013T100612Z
UID:72015-1666002600-1666110600@salesianipiemonte.info
SUMMARY:SALESIANI ITALIA – Ufficio Parrocchie Oratori
DESCRIPTION:Ordine del giorno dell’incontro: \n\nconfronto sull’ambiente pastorale\naggiornamento sul cammino in corso nella Chiesa italiana\nallestimento del prossimo Seminario sulla Parrocchia salesiana
URL:https://salesianipiemonte.info/event/salesiani-italia-ufficio-parrocchie-oratori-2/
LOCATION:Istituto Maria Ausiliatrice delle Salesiane di Don Bosco\, Via Marghera\, 59\, Roma\, 00185
CATEGORIES:Centro Nazionale,Parrocchia e Oratorio
ATTACH;FMTTYPE=image/jpeg:https://salesianipiemonte.info/wp-content/uploads/2021/07/Banner_DBI_Calendari.jpg
END:VEVENT
END:VCALENDAR