BEGIN:VCALENDAR
VERSION:2.0
PRODID:-//Salesiani Piemonte e Valle d&#039;Aosta - ECPv5.5.0.1//NONSGML v1.0//EN
CALSCALE:GREGORIAN
METHOD:PUBLISH
X-WR-CALNAME:Salesiani Piemonte e Valle d&#039;Aosta
X-ORIGINAL-URL:https://salesianipiemonte.info
X-WR-CALDESC:Eventi per Salesiani Piemonte e Valle d&#039;Aosta
BEGIN:VTIMEZONE
TZID:Europe/Rome
BEGIN:DAYLIGHT
TZOFFSETFROM:+0100
TZOFFSETTO:+0200
TZNAME:CEST
DTSTART:20230326T010000
END:DAYLIGHT
BEGIN:STANDARD
TZOFFSETFROM:+0200
TZOFFSETTO:+0100
TZNAME:CET
DTSTART:20231029T010000
END:STANDARD
END:VTIMEZONE
BEGIN:VEVENT
DTSTART;VALUE=DATE:20231110
DTEND;VALUE=DATE:20231113
DTSTAMP:20260424T051855
CREATED:20230619T120037Z
LAST-MODIFIED:20230703T150729Z
UID:63549-1699574400-1699833599@salesianipiemonte.info
SUMMARY:Scuola di accompagnamento - 1° possibilità
DESCRIPTION:
URL:https://salesianipiemonte.info/event/scuola-di-accompagnamento-1-possibilita-2023/
LOCATION:Valdocco
CATEGORIES:Formazione
ATTACH;FMTTYPE=image/jpeg:https://salesianipiemonte.info/wp-content/uploads/2021/07/Banner_Calendari.jpg
ORGANIZER;CN="Don%20Fabiano%20Gheller":MAILTO:fabiano.gheller@31gennaio.net
END:VEVENT
END:VCALENDAR