BEGIN:VCALENDAR
VERSION:2.0
PRODID:-//Salesiani Piemonte e Valle d&#039;Aosta - ECPv5.5.0.1//NONSGML v1.0//EN
CALSCALE:GREGORIAN
METHOD:PUBLISH
X-WR-CALNAME:Salesiani Piemonte e Valle d&#039;Aosta
X-ORIGINAL-URL:https://salesianipiemonte.info
X-WR-CALDESC:Eventi per Salesiani Piemonte e Valle d&#039;Aosta
BEGIN:VTIMEZONE
TZID:Europe/Rome
BEGIN:DAYLIGHT
TZOFFSETFROM:+0100
TZOFFSETTO:+0200
TZNAME:CEST
DTSTART:20220327T010000
END:DAYLIGHT
BEGIN:STANDARD
TZOFFSETFROM:+0200
TZOFFSETTO:+0100
TZNAME:CET
DTSTART:20221030T010000
END:STANDARD
END:VTIMEZONE
BEGIN:VEVENT
DTSTART;TZID=Europe/Rome:20220111T103000
DTEND;TZID=Europe/Rome:20220111T113000
DTSTAMP:20260421T144836
CREATED:20211223T160312Z
LAST-MODIFIED:20211223T160312Z
UID:64640-1641897000-1641900600@salesianipiemonte.info
SUMMARY:Servizio Civile – Incontro di orientamento online: 11 gennaio 2022
DESCRIPTION:Incontro di orientamento online del Servizio Civile
URL:https://salesianipiemonte.info/event/servizio-civile-incontro-di-orientamento-online-11-gennaio-2022/
CATEGORIES:Servizi Civili e Sociali
ATTACH;FMTTYPE=image/jpeg:https://salesianipiemonte.info/wp-content/uploads/2021/07/Banner_Calendari.jpg
ORGANIZER;CN="Rosanna%20Todisco":MAILTO:serviziocivile@salesianipiemonte.it
END:VEVENT
END:VCALENDAR