BEGIN:VCALENDAR
VERSION:2.0
PRODID:-//Salesiani Piemonte e Valle d&#039;Aosta - ECPv5.5.0.1//NONSGML v1.0//EN
CALSCALE:GREGORIAN
METHOD:PUBLISH
X-WR-CALNAME:Salesiani Piemonte e Valle d&#039;Aosta
X-ORIGINAL-URL:https://salesianipiemonte.info
X-WR-CALDESC:Eventi per Salesiani Piemonte e Valle d&#039;Aosta
BEGIN:VTIMEZONE
TZID:Europe/Rome
BEGIN:DAYLIGHT
TZOFFSETFROM:+0100
TZOFFSETTO:+0200
TZNAME:CEST
DTSTART:20220327T010000
END:DAYLIGHT
BEGIN:STANDARD
TZOFFSETFROM:+0200
TZOFFSETTO:+0100
TZNAME:CET
DTSTART:20221030T010000
END:STANDARD
END:VTIMEZONE
BEGIN:VEVENT
DTSTART;TZID=Europe/Rome:20220119T103000
DTEND;TZID=Europe/Rome:20220119T113000
DTSTAMP:20260424T210538
CREATED:20211223T160653Z
LAST-MODIFIED:20211223T160653Z
UID:64643-1642588200-1642591800@salesianipiemonte.info
SUMMARY:Servizio Civile – InfoDay di orientamento online: 19 gennaio 2022
DESCRIPTION:INFODAY DI ORIENTAMENTO ONLINE
URL:https://salesianipiemonte.info/event/servizio-civile-infoday-di-orientamento-online-19-gennaio-2022/
CATEGORIES:Servizi Civili e Sociali
ATTACH;FMTTYPE=image/jpeg:https://salesianipiemonte.info/wp-content/uploads/2021/07/Banner_Calendari.jpg
ORGANIZER;CN="Rosanna%20Todisco":MAILTO:serviziocivile@salesianipiemonte.it
END:VEVENT
END:VCALENDAR